BEGIN:VCALENDAR
VERSION:2.0
PRODID:-//Epilepsy Southwestern Ontario - ECPv6.15.18//NONSGML v1.0//EN
CALSCALE:GREGORIAN
METHOD:PUBLISH
X-WR-CALNAME:Epilepsy Southwestern Ontario
X-ORIGINAL-URL:https://epilepsyswo.ca
X-WR-CALDESC:Events for Epilepsy Southwestern Ontario
REFRESH-INTERVAL;VALUE=DURATION:PT1H
X-Robots-Tag:noindex
X-PUBLISHED-TTL:PT1H
BEGIN:VTIMEZONE
TZID:America/Toronto
BEGIN:DAYLIGHT
TZOFFSETFROM:-0500
TZOFFSETTO:-0400
TZNAME:EDT
DTSTART:20220313T070000
END:DAYLIGHT
BEGIN:STANDARD
TZOFFSETFROM:-0400
TZOFFSETTO:-0500
TZNAME:EST
DTSTART:20221106T060000
END:STANDARD
BEGIN:DAYLIGHT
TZOFFSETFROM:-0500
TZOFFSETTO:-0400
TZNAME:EDT
DTSTART:20230312T070000
END:DAYLIGHT
BEGIN:STANDARD
TZOFFSETFROM:-0400
TZOFFSETTO:-0500
TZNAME:EST
DTSTART:20231105T060000
END:STANDARD
BEGIN:DAYLIGHT
TZOFFSETFROM:-0500
TZOFFSETTO:-0400
TZNAME:EDT
DTSTART:20240310T070000
END:DAYLIGHT
BEGIN:STANDARD
TZOFFSETFROM:-0400
TZOFFSETTO:-0500
TZNAME:EST
DTSTART:20241103T060000
END:STANDARD
END:VTIMEZONE
BEGIN:VEVENT
DTSTART;TZID=America/Toronto:20231220T160000
DTEND;TZID=America/Toronto:20231220T190000
DTSTAMP:20260420T102711
CREATED:20231204T145601Z
LAST-MODIFIED:20231204T204906Z
UID:17832-1703088000-1703098800@epilepsyswo.ca
SUMMARY:London Holiday Party
DESCRIPTION:Join us for an end-of-the-year family-friendly celebration of the winter season at the East Lions Community Center in London on December 20th. Our social worker Holly will be hosting winter-themed games\, crafts\, and activities.  \nNo need to RSVP – simply drop in when you can between 4:00 – 7:00pm. Hope to see you there!
URL:https://epilepsyswo.ca/event/17832/
LOCATION:East Lions Community Centre\, 1731 Churchill Ave\, London\, Ontario\, N5W 5P4\, Canada
CATEGORIES:London/Middlesex
END:VEVENT
END:VCALENDAR