BEGIN:VCALENDAR
VERSION:2.0
PRODID:-//Epilepsy Southwestern Ontario - ECPv6.15.18//NONSGML v1.0//EN
CALSCALE:GREGORIAN
METHOD:PUBLISH
X-WR-CALNAME:Epilepsy Southwestern Ontario
X-ORIGINAL-URL:https://epilepsyswo.ca
X-WR-CALDESC:Events for Epilepsy Southwestern Ontario
REFRESH-INTERVAL;VALUE=DURATION:PT1H
X-Robots-Tag:noindex
X-PUBLISHED-TTL:PT1H
BEGIN:VTIMEZONE
TZID:America/Toronto
BEGIN:DAYLIGHT
TZOFFSETFROM:-0500
TZOFFSETTO:-0400
TZNAME:EDT
DTSTART:20220313T070000
END:DAYLIGHT
BEGIN:STANDARD
TZOFFSETFROM:-0400
TZOFFSETTO:-0500
TZNAME:EST
DTSTART:20221106T060000
END:STANDARD
BEGIN:DAYLIGHT
TZOFFSETFROM:-0500
TZOFFSETTO:-0400
TZNAME:EDT
DTSTART:20230312T070000
END:DAYLIGHT
BEGIN:STANDARD
TZOFFSETFROM:-0400
TZOFFSETTO:-0500
TZNAME:EST
DTSTART:20231105T060000
END:STANDARD
BEGIN:DAYLIGHT
TZOFFSETFROM:-0500
TZOFFSETTO:-0400
TZNAME:EDT
DTSTART:20240310T070000
END:DAYLIGHT
BEGIN:STANDARD
TZOFFSETFROM:-0400
TZOFFSETTO:-0500
TZNAME:EST
DTSTART:20241103T060000
END:STANDARD
END:VTIMEZONE
BEGIN:VEVENT
DTSTART;TZID=America/Toronto:20230921T120000
DTEND;TZID=America/Toronto:20230921T130000
DTSTAMP:20260420T140354
CREATED:20230802T201501Z
LAST-MODIFIED:20230802T201501Z
UID:17488-1695297600-1695301200@epilepsyswo.ca
SUMMARY:UPLIFT for Adults
DESCRIPTION:UPLIFT is a free\, eight-week skill-building program to support people in developing coping strategies to deal with stress\, through mindfulness and cognitive behavioural therapy. Participants meet once a week for one hour with groups of 5-8 people over Zoom. Commitment to attend each session is required to benefit from the program\, as well as to ensure the group dynamic remains intact.  \nESWO will host an UPLIFT session for adults who are living with epilepsy.  \nEmail holly@epilepsyswo.ca to register.
URL:https://epilepsyswo.ca/event/uplift-for-adults-17/
CATEGORIES:Chatham/Kent,Huron Perth/Grey Bruce,London/Middlesex,Sarnia/Lambton,Windsor/Essex
ATTACH;FMTTYPE=image/jpeg:https://epilepsyswo.ca/wp-content/uploads/2022/11/UPLIFT_eventsBanner_20221114.jpg
END:VEVENT
BEGIN:VEVENT
DTSTART;TZID=America/Toronto:20230921T120000
DTEND;TZID=America/Toronto:20230921T130000
DTSTAMP:20260420T140354
CREATED:20230802T201501Z
LAST-MODIFIED:20230802T201501Z
UID:17488-1695297600-1695301200@epilepsyswo.ca
SUMMARY:UPLIFT for Adults
DESCRIPTION:UPLIFT is a free\, eight-week skill-building program to support people in developing coping strategies to deal with stress\, through mindfulness and cognitive behavioural therapy. Participants meet once a week for one hour with groups of 5-8 people over Zoom. Commitment to attend each session is required to benefit from the program\, as well as to ensure the group dynamic remains intact.  \nESWO will host an UPLIFT session for adults who are living with epilepsy.  \nEmail holly@epilepsyswo.ca to register.
URL:https://epilepsyswo.ca/event/uplift-for-adults-17/
CATEGORIES:Chatham/Kent,Huron Perth/Grey Bruce,London/Middlesex,Sarnia/Lambton,Windsor/Essex
ATTACH;FMTTYPE=image/jpeg:https://epilepsyswo.ca/wp-content/uploads/2022/11/UPLIFT_eventsBanner_20221114.jpg
END:VEVENT
BEGIN:VEVENT
DTSTART;TZID=America/Toronto:20230921T120000
DTEND;TZID=America/Toronto:20230921T130000
DTSTAMP:20260420T140354
CREATED:20230802T201501Z
LAST-MODIFIED:20230802T201501Z
UID:17488-1695297600-1695301200@epilepsyswo.ca
SUMMARY:UPLIFT for Adults
DESCRIPTION:UPLIFT is a free\, eight-week skill-building program to support people in developing coping strategies to deal with stress\, through mindfulness and cognitive behavioural therapy. Participants meet once a week for one hour with groups of 5-8 people over Zoom. Commitment to attend each session is required to benefit from the program\, as well as to ensure the group dynamic remains intact.  \nESWO will host an UPLIFT session for adults who are living with epilepsy.  \nEmail holly@epilepsyswo.ca to register.
URL:https://epilepsyswo.ca/event/uplift-for-adults-17/
CATEGORIES:Chatham/Kent,Huron Perth/Grey Bruce,London/Middlesex,Sarnia/Lambton,Windsor/Essex
ATTACH;FMTTYPE=image/jpeg:https://epilepsyswo.ca/wp-content/uploads/2022/11/UPLIFT_eventsBanner_20221114.jpg
END:VEVENT
BEGIN:VEVENT
DTSTART;TZID=America/Toronto:20231022T103000
DTEND;TZID=America/Toronto:20231022T123000
DTSTAMP:20260420T140354
CREATED:20231020T130401Z
LAST-MODIFIED:20231020T130401Z
UID:17689-1697970600-1697977800@epilepsyswo.ca
SUMMARY:SUDEP & Epilepsy Loss Memorial Event
DESCRIPTION:ESWO would like to invite families who have lost a loved one to Sudden Unexpected Death in Epilepsy (SUDEP) or another epilepsy-related cause to join us once again at Graham Family EcoPark on October 22nd from 10:30am-12:00pm in remembrance of warriors who are no longer present. Families will have an opportunity to paint memorial stones to take home but may also wish to bring a stone from home to leave at EcoPark. We also encourage families to share a photo of their loved one with us\, so that we can light a candle in their honor. There will be a student videographer on site for any families who would like to share a message about their experience to share with others. \nFor more information or to register your attendance\, please contact holly@epilepsyswo.ca
URL:https://epilepsyswo.ca/event/sudep-epilepsy-loss-memorial-event/
LOCATION:Graham Family Eco-Park\, 16033 Medway Rd\, Arva\, Ontario\, N0M 1C0\, Canada
CATEGORIES:London/Middlesex
ATTACH;FMTTYPE=image/png:https://epilepsyswo.ca/wp-content/uploads/2023/10/SUDEP-memorial-event-FB-2023.png
END:VEVENT
BEGIN:VEVENT
DTSTART;TZID=America/Toronto:20231024T120000
DTEND;TZID=America/Toronto:20231024T130000
DTSTAMP:20260420T140354
CREATED:20231020T130031Z
LAST-MODIFIED:20231020T130031Z
UID:17686-1698148800-1698152400@epilepsyswo.ca
SUMMARY:Assistance for Children with Severe Disabilities Webinar
DESCRIPTION:Epilepsy Southwestern Ontario will be hosting representatives from the Assistance for Children with Severe Disabilities program for an online webinar. All are welcome to attend to learn more about the ACSD program\, and its eligibility and to ask questions. \nSave the date for October 24th from 12-1 p.m. and contact holly@epilepsyswo.ca to register and receive the Zoom link.
URL:https://epilepsyswo.ca/event/acsd-webinar/
CATEGORIES:Chatham/Kent,Huron Perth/Grey Bruce,London/Middlesex,Sarnia/Lambton
ATTACH;FMTTYPE=image/png:https://epilepsyswo.ca/wp-content/uploads/2023/10/ACSD-Webinar-FB-2023.png
END:VEVENT
BEGIN:VEVENT
DTSTART;TZID=America/Toronto:20231025T170000
DTEND;TZID=America/Toronto:20231025T190000
DTSTAMP:20260420T140354
CREATED:20231020T125642Z
LAST-MODIFIED:20231024T161919Z
UID:17682-1698253200-1698260400@epilepsyswo.ca
SUMMARY:Purple Pumpkin Party
DESCRIPTION:Will you be participating in the Purple Pumpkin Epilepsy Awareness Campaign? Join our Purple Pumpkin Painting Party! We’ll provide the paint\, you provide the pumpkin(s)! Purple pumpkins are conversation starters and when someone asks why your pumpkin is purple\, you can let them know that purple is the colour for epilepsy awareness and that one in 100 people live with epilepsy. You can also share other fun facts or even your or your family’s story! \nWe ask that you please RSVP to holly@epilepsyswo.ca by Monday\, October 23rd if you are planning to attend. \nNot in London? We’d still love to see your photos! Tag us @epilepsyswo or email katie@epilepsyswo.ca to have your photos posted on our social media.
URL:https://epilepsyswo.ca/event/17682/
LOCATION:East Lions Community Centre\, 1731 Churchill Ave\, London\, Ontario\, N5W 5P4\, Canada
CATEGORIES:London/Middlesex
ATTACH;FMTTYPE=image/jpeg:https://epilepsyswo.ca/wp-content/uploads/2023/10/PurplePumpkinParty_Oct25.jpg
END:VEVENT
BEGIN:VEVENT
DTSTART;TZID=America/Toronto:20230921T120000
DTEND;TZID=America/Toronto:20230921T130000
DTSTAMP:20260420T140354
CREATED:20230802T201501Z
LAST-MODIFIED:20230802T201501Z
UID:17488-1695297600-1695301200@epilepsyswo.ca
SUMMARY:UPLIFT for Adults
DESCRIPTION:UPLIFT is a free\, eight-week skill-building program to support people in developing coping strategies to deal with stress\, through mindfulness and cognitive behavioural therapy. Participants meet once a week for one hour with groups of 5-8 people over Zoom. Commitment to attend each session is required to benefit from the program\, as well as to ensure the group dynamic remains intact.  \nESWO will host an UPLIFT session for adults who are living with epilepsy.  \nEmail holly@epilepsyswo.ca to register.
URL:https://epilepsyswo.ca/event/uplift-for-adults-17/
CATEGORIES:Chatham/Kent,Huron Perth/Grey Bruce,London/Middlesex,Sarnia/Lambton,Windsor/Essex
ATTACH;FMTTYPE=image/jpeg:https://epilepsyswo.ca/wp-content/uploads/2022/11/UPLIFT_eventsBanner_20221114.jpg
END:VEVENT
END:VCALENDAR