BEGIN:VCALENDAR
VERSION:2.0
PRODID:-//Epilepsy Southwestern Ontario - ECPv6.15.18//NONSGML v1.0//EN
CALSCALE:GREGORIAN
METHOD:PUBLISH
X-WR-CALNAME:Epilepsy Southwestern Ontario
X-ORIGINAL-URL:https://epilepsyswo.ca
X-WR-CALDESC:Events for Epilepsy Southwestern Ontario
REFRESH-INTERVAL;VALUE=DURATION:PT1H
X-Robots-Tag:noindex
X-PUBLISHED-TTL:PT1H
BEGIN:VTIMEZONE
TZID:America/Toronto
BEGIN:DAYLIGHT
TZOFFSETFROM:-0500
TZOFFSETTO:-0400
TZNAME:EDT
DTSTART:20220313T070000
END:DAYLIGHT
BEGIN:STANDARD
TZOFFSETFROM:-0400
TZOFFSETTO:-0500
TZNAME:EST
DTSTART:20221106T060000
END:STANDARD
BEGIN:DAYLIGHT
TZOFFSETFROM:-0500
TZOFFSETTO:-0400
TZNAME:EDT
DTSTART:20230312T070000
END:DAYLIGHT
BEGIN:STANDARD
TZOFFSETFROM:-0400
TZOFFSETTO:-0500
TZNAME:EST
DTSTART:20231105T060000
END:STANDARD
BEGIN:DAYLIGHT
TZOFFSETFROM:-0500
TZOFFSETTO:-0400
TZNAME:EDT
DTSTART:20240310T070000
END:DAYLIGHT
BEGIN:STANDARD
TZOFFSETFROM:-0400
TZOFFSETTO:-0500
TZNAME:EST
DTSTART:20241103T060000
END:STANDARD
END:VTIMEZONE
BEGIN:VEVENT
DTSTART;TZID=America/Toronto:20230713T120000
DTEND;TZID=America/Toronto:20230713T130000
DTSTAMP:20260420T175307
CREATED:20230712T173141Z
LAST-MODIFIED:20230712T175432Z
UID:17417-1689249600-1689253200@epilepsyswo.ca
SUMMARY:UPLIFT for Caregivers
DESCRIPTION:UPLIFT is a free\, eight-week skill-building program to support people in developing coping strategies to deal with stress\, through mindfulness and cognitive behavioural therapy. Participants meet once a week for one hour with groups of 5-8 people over Zoom. Commitment to attend each session is required to benefit from the program\, as well as to ensure the group dynamic remains intact.  \nESWO will host an UPLIFT session for those who are caregivers of individuals living with epilepsy.  \nEmail Sandra@epilepsyswo.ca or Lori@epilepsyswo.ca to register.
URL:https://epilepsyswo.ca/event/uplift-for-caregivers-17/
CATEGORIES:Chatham/Kent,Huron Perth/Grey Bruce,London/Middlesex,Sarnia/Lambton,Windsor/Essex
ATTACH;FMTTYPE=image/jpeg:https://epilepsyswo.ca/wp-content/uploads/2022/11/UPLIFT_eventsBanner_20221114.jpg
END:VEVENT
BEGIN:VEVENT
DTSTART;TZID=America/Toronto:20230809T110000
DTEND;TZID=America/Toronto:20230809T120000
DTSTAMP:20260420T175307
CREATED:20230719T194937Z
LAST-MODIFIED:20230719T195718Z
UID:17449-1691578800-1691582400@epilepsyswo.ca
SUMMARY:Summer Fun Day - Aerosports
DESCRIPTION:Join Lori at Aerosports\, 7654 Tecumseh Rd E\, Windsor\, ON for an hour of jump time!\n* Caregiver supervision is required! \nPlease be sure to send your RSVP to Lori at lori@epilepsyswo.ca no later than a few days in advance so that we know our events are a go!
URL:https://epilepsyswo.ca/event/summer-fun-day-mini-golf/
LOCATION:7654 Tecumseh Rd E\, Windsor ON\, 354 Croft Drive\, Tecumseh\, Ontario\, Canada
CATEGORIES:Windsor/Essex
ORGANIZER;CN="Epilepsy Southwestern Ontario%2C Windsor":MAILTO:lori@epilepsyswo.ca
END:VEVENT
BEGIN:VEVENT
DTSTART;TZID=America/Toronto:20230713T120000
DTEND;TZID=America/Toronto:20230713T130000
DTSTAMP:20260420T175307
CREATED:20230712T173141Z
LAST-MODIFIED:20230712T175432Z
UID:17417-1689249600-1689253200@epilepsyswo.ca
SUMMARY:UPLIFT for Caregivers
DESCRIPTION:UPLIFT is a free\, eight-week skill-building program to support people in developing coping strategies to deal with stress\, through mindfulness and cognitive behavioural therapy. Participants meet once a week for one hour with groups of 5-8 people over Zoom. Commitment to attend each session is required to benefit from the program\, as well as to ensure the group dynamic remains intact.  \nESWO will host an UPLIFT session for those who are caregivers of individuals living with epilepsy.  \nEmail Sandra@epilepsyswo.ca or Lori@epilepsyswo.ca to register.
URL:https://epilepsyswo.ca/event/uplift-for-caregivers-17/
CATEGORIES:Chatham/Kent,Huron Perth/Grey Bruce,London/Middlesex,Sarnia/Lambton,Windsor/Essex
ATTACH;FMTTYPE=image/jpeg:https://epilepsyswo.ca/wp-content/uploads/2022/11/UPLIFT_eventsBanner_20221114.jpg
END:VEVENT
BEGIN:VEVENT
DTSTART;TZID=America/Toronto:20230814T090000
DTEND;TZID=America/Toronto:20230814T160000
DTSTAMP:20260420T175307
CREATED:20230413T154627Z
LAST-MODIFIED:20230413T154627Z
UID:17186-1692003600-1692028800@epilepsyswo.ca
SUMMARY:Purple Nation Summer Camp
DESCRIPTION:We are now offering the ESWO Purple Nation Summer Camp\, available to children and youth between the ages of 4-12 years living with epilepsy in Southwestern Ontario\, as well as their siblings. This is a full-day camp. \nThere will be lots of fun activities\, chances to meet other children with epilepsy\, and opportunities to be active outdoors. Rest assured that all staff and volunteers will be trained in seizure first aid\, so your children can join us for a safe and enjoyable summer where seizures are no big deal.
URL:https://epilepsyswo.ca/event/purple-nation-summer-camp-6/
LOCATION:South London Neighbourhood Resource Centre\, 1119 Jalna Blvd\, London\, Ontairo\, N6E 3B3\, Canada
CATEGORIES:London/Middlesex
END:VEVENT
BEGIN:VEVENT
DTSTART;TZID=America/Toronto:20230815T090000
DTEND;TZID=America/Toronto:20230815T160000
DTSTAMP:20260420T175307
CREATED:20230413T154733Z
LAST-MODIFIED:20230413T154733Z
UID:17188-1692090000-1692115200@epilepsyswo.ca
SUMMARY:Purple Nation Summer Camp
DESCRIPTION:We are now offering the ESWO Purple Nation Summer Camp\, available to children and youth between the ages of 4-12 years living with epilepsy in Southwestern Ontario\, as well as their siblings. This is a full-day camp. \nThere will be lots of fun activities\, chances to meet other children with epilepsy\, and opportunities to be active outdoors. Rest assured that all staff and volunteers will be trained in seizure first aid\, so your children can join us for a safe and enjoyable summer where seizures are no big deal.
URL:https://epilepsyswo.ca/event/purple-nation-summer-camp-7/
LOCATION:South London Neighbourhood Resource Centre\, 1119 Jalna Blvd\, London\, Ontairo\, N6E 3B3\, Canada
CATEGORIES:London/Middlesex
END:VEVENT
BEGIN:VEVENT
DTSTART;TZID=America/Toronto:20230816T090000
DTEND;TZID=America/Toronto:20230816T160000
DTSTAMP:20260420T175307
CREATED:20230413T154855Z
LAST-MODIFIED:20230413T154855Z
UID:17190-1692176400-1692201600@epilepsyswo.ca
SUMMARY:Purple Nation Summer Camp
DESCRIPTION:We are now offering the ESWO Purple Nation Summer Camp\, available to children and youth between the ages of 4-12 years living with epilepsy in Southwestern Ontario\, as well as their siblings. This is a full-day camp. \nThere will be lots of fun activities\, chances to meet other children with epilepsy\, and opportunities to be active outdoors. Rest assured that all staff and volunteers will be trained in seizure first aid\, so your children can join us for a safe and enjoyable summer where seizures are no big deal.
URL:https://epilepsyswo.ca/event/purple-nation-summer-camp-8/
LOCATION:Graham Family Eco-Park\, 16033 Medway Rd\, Arva\, Ontario\, N0M 1C0\, Canada
CATEGORIES:London/Middlesex
END:VEVENT
BEGIN:VEVENT
DTSTART;TZID=America/Toronto:20230817T090000
DTEND;TZID=America/Toronto:20230817T160000
DTSTAMP:20260420T175307
CREATED:20230413T155145Z
LAST-MODIFIED:20230413T155145Z
UID:17192-1692262800-1692288000@epilepsyswo.ca
SUMMARY:Purple Nation Summer Camp
DESCRIPTION:We are now offering the ESWO Purple Nation Summer Camp\, available to children and youth between the ages of 4-12 years living with epilepsy in Southwestern Ontario\, as well as their siblings. This is a full-day camp. \nThere will be lots of fun activities\, chances to meet other children with epilepsy\, and opportunities to be active outdoors. Rest assured that all staff and volunteers will be trained in seizure first aid\, so your children can join us for a safe and enjoyable summer where seizures are no big deal.
URL:https://epilepsyswo.ca/event/purple-nation-summer-camp-9/
LOCATION:Graham Family Eco-Park\, 16033 Medway Rd\, Arva\, Ontario\, N0M 1C0\, Canada
CATEGORIES:London/Middlesex
END:VEVENT
BEGIN:VEVENT
DTSTART;TZID=America/Toronto:20230713T120000
DTEND;TZID=America/Toronto:20230713T130000
DTSTAMP:20260420T175307
CREATED:20230712T173141Z
LAST-MODIFIED:20230712T175432Z
UID:17417-1689249600-1689253200@epilepsyswo.ca
SUMMARY:UPLIFT for Caregivers
DESCRIPTION:UPLIFT is a free\, eight-week skill-building program to support people in developing coping strategies to deal with stress\, through mindfulness and cognitive behavioural therapy. Participants meet once a week for one hour with groups of 5-8 people over Zoom. Commitment to attend each session is required to benefit from the program\, as well as to ensure the group dynamic remains intact.  \nESWO will host an UPLIFT session for those who are caregivers of individuals living with epilepsy.  \nEmail Sandra@epilepsyswo.ca or Lori@epilepsyswo.ca to register.
URL:https://epilepsyswo.ca/event/uplift-for-caregivers-17/
CATEGORIES:Chatham/Kent,Huron Perth/Grey Bruce,London/Middlesex,Sarnia/Lambton,Windsor/Essex
ATTACH;FMTTYPE=image/jpeg:https://epilepsyswo.ca/wp-content/uploads/2022/11/UPLIFT_eventsBanner_20221114.jpg
END:VEVENT
BEGIN:VEVENT
DTSTART;TZID=America/Toronto:20230817T183000
DTEND;TZID=America/Toronto:20230817T193000
DTSTAMP:20260420T175307
CREATED:20230113T201415Z
LAST-MODIFIED:20230113T201415Z
UID:16764-1692297000-1692300600@epilepsyswo.ca
SUMMARY:Virtual Teen Social Group
DESCRIPTION:Teens with epilepsy and their siblings between the ages of 13-17 are welcome to join us for games and conversation over Zoom. This is a great opportunity to meet peers with epilepsy and to have fun getting to know each other. If you are interested in this session or future sessions\, email holly@epilepsyswo.ca to register.
URL:https://epilepsyswo.ca/event/virtual-teen-social-group-3/
CATEGORIES:Chatham/Kent,Huron Perth/Grey Bruce,London/Middlesex,Sarnia/Lambton,Windsor/Essex
ATTACH;FMTTYPE=image/jpeg:https://epilepsyswo.ca/wp-content/uploads/2021/07/teen-group-photo.jpg
END:VEVENT
BEGIN:VEVENT
DTSTART;TZID=America/Toronto:20230818T090000
DTEND;TZID=America/Toronto:20230818T160000
DTSTAMP:20260420T175307
CREATED:20230413T155439Z
LAST-MODIFIED:20230413T155439Z
UID:17194-1692349200-1692374400@epilepsyswo.ca
SUMMARY:Purple Nation Summer Camp
DESCRIPTION:We are now offering the ESWO Purple Nation Summer Camp\, available to children and youth between the ages of 4-12 years living with epilepsy in Southwestern Ontario\, as well as their siblings. This is a full-day camp. \nThere will be lots of fun activities\, chances to meet other children with epilepsy\, and opportunities to be active outdoors. Rest assured that all staff and volunteers will be trained in seizure first aid\, so your children can join us for a safe and enjoyable summer where seizures are no big deal.
URL:https://epilepsyswo.ca/event/purple-nation-summer-camp-10/
CATEGORIES:London/Middlesex
END:VEVENT
BEGIN:VEVENT
DTSTART;TZID=America/Toronto:20230713T120000
DTEND;TZID=America/Toronto:20230713T130000
DTSTAMP:20260420T175307
CREATED:20230712T173141Z
LAST-MODIFIED:20230712T175432Z
UID:17417-1689249600-1689253200@epilepsyswo.ca
SUMMARY:UPLIFT for Caregivers
DESCRIPTION:UPLIFT is a free\, eight-week skill-building program to support people in developing coping strategies to deal with stress\, through mindfulness and cognitive behavioural therapy. Participants meet once a week for one hour with groups of 5-8 people over Zoom. Commitment to attend each session is required to benefit from the program\, as well as to ensure the group dynamic remains intact.  \nESWO will host an UPLIFT session for those who are caregivers of individuals living with epilepsy.  \nEmail Sandra@epilepsyswo.ca or Lori@epilepsyswo.ca to register.
URL:https://epilepsyswo.ca/event/uplift-for-caregivers-17/
CATEGORIES:Chatham/Kent,Huron Perth/Grey Bruce,London/Middlesex,Sarnia/Lambton,Windsor/Essex
ATTACH;FMTTYPE=image/jpeg:https://epilepsyswo.ca/wp-content/uploads/2022/11/UPLIFT_eventsBanner_20221114.jpg
END:VEVENT
BEGIN:VEVENT
DTSTART;TZID=America/Toronto:20230830T120000
DTEND;TZID=America/Toronto:20230830T140000
DTSTAMP:20260420T175307
CREATED:20230719T195900Z
LAST-MODIFIED:20230719T195900Z
UID:17457-1693396800-1693404000@epilepsyswo.ca
SUMMARY:Summer Fun Days - Seacliffe Park Picnic
DESCRIPTION:Join Lori for a picnic (bring your own lunch) in Seacliffe Park\, splash pad (bring your bathing suits/ towels) and good old outdoor fun!\n* Caregiver supervision is required! \nPlease be sure to send your RSVP to Lori at lori@epilepsyswo.ca no later than a few days in advance so that we know our events are a go!
URL:https://epilepsyswo.ca/event/summer-fun-days-seacliffe-park-picnic/
LOCATION:24 Seacliffe Dr. W\, Leamington ON\, 24 Seacliffe Dr W\, Leamington\, ON\, Canada
CATEGORIES:Windsor/Essex
ORGANIZER;CN="Epilepsy Southwestern Ontario%2C Windsor":MAILTO:lori@epilepsyswo.ca
END:VEVENT
BEGIN:VEVENT
DTSTART;TZID=America/Toronto:20230713T120000
DTEND;TZID=America/Toronto:20230713T130000
DTSTAMP:20260420T175307
CREATED:20230712T173141Z
LAST-MODIFIED:20230712T175432Z
UID:17417-1689249600-1689253200@epilepsyswo.ca
SUMMARY:UPLIFT for Caregivers
DESCRIPTION:UPLIFT is a free\, eight-week skill-building program to support people in developing coping strategies to deal with stress\, through mindfulness and cognitive behavioural therapy. Participants meet once a week for one hour with groups of 5-8 people over Zoom. Commitment to attend each session is required to benefit from the program\, as well as to ensure the group dynamic remains intact.  \nESWO will host an UPLIFT session for those who are caregivers of individuals living with epilepsy.  \nEmail Sandra@epilepsyswo.ca or Lori@epilepsyswo.ca to register.
URL:https://epilepsyswo.ca/event/uplift-for-caregivers-17/
CATEGORIES:Chatham/Kent,Huron Perth/Grey Bruce,London/Middlesex,Sarnia/Lambton,Windsor/Essex
ATTACH;FMTTYPE=image/jpeg:https://epilepsyswo.ca/wp-content/uploads/2022/11/UPLIFT_eventsBanner_20221114.jpg
END:VEVENT
END:VCALENDAR