BEGIN:VCALENDAR
VERSION:2.0
PRODID:-//Epilepsy Southwestern Ontario - ECPv6.15.18//NONSGML v1.0//EN
CALSCALE:GREGORIAN
METHOD:PUBLISH
X-WR-CALNAME:Epilepsy Southwestern Ontario
X-ORIGINAL-URL:https://epilepsyswo.ca
X-WR-CALDESC:Events for Epilepsy Southwestern Ontario
REFRESH-INTERVAL;VALUE=DURATION:PT1H
X-Robots-Tag:noindex
X-PUBLISHED-TTL:PT1H
BEGIN:VTIMEZONE
TZID:America/Toronto
BEGIN:DAYLIGHT
TZOFFSETFROM:-0500
TZOFFSETTO:-0400
TZNAME:EDT
DTSTART:20220313T070000
END:DAYLIGHT
BEGIN:STANDARD
TZOFFSETFROM:-0400
TZOFFSETTO:-0500
TZNAME:EST
DTSTART:20221106T060000
END:STANDARD
BEGIN:DAYLIGHT
TZOFFSETFROM:-0500
TZOFFSETTO:-0400
TZNAME:EDT
DTSTART:20230312T070000
END:DAYLIGHT
BEGIN:STANDARD
TZOFFSETFROM:-0400
TZOFFSETTO:-0500
TZNAME:EST
DTSTART:20231105T060000
END:STANDARD
BEGIN:DAYLIGHT
TZOFFSETFROM:-0500
TZOFFSETTO:-0400
TZNAME:EDT
DTSTART:20240310T070000
END:DAYLIGHT
BEGIN:STANDARD
TZOFFSETFROM:-0400
TZOFFSETTO:-0500
TZNAME:EST
DTSTART:20241103T060000
END:STANDARD
END:VTIMEZONE
BEGIN:VEVENT
DTSTART;TZID=America/Toronto:20230302T120000
DTEND;TZID=America/Toronto:20230302T130000
DTSTAMP:20260421T025709
CREATED:20221114T203136Z
LAST-MODIFIED:20221114T203136Z
UID:16471-1677758400-1677762000@epilepsyswo.ca
SUMMARY:UPLIFT for Caregivers
DESCRIPTION:UPLIFT is a free\, eight-week skill-building program to support people in developing coping strategies to deal with stress\, through mindfulness and cognitive behavioural therapy. Participants meet once a week for one hour with groups of 5-8 people over Zoom. Commitment to attend each session is required to benefit from the program\, as well as to ensure the group dynamic remains intact.  \nESWO will host an UPLIFT session for those who are caregivers of individuals living with epilepsy.  \nEmail Sandra@epilepsyswo.ca to register.
URL:https://epilepsyswo.ca/event/uplift-for-caregivers-7/
CATEGORIES:Chatham/Kent,Huron Perth/Grey Bruce,London/Middlesex,Sarnia/Lambton,Windsor/Essex
ATTACH;FMTTYPE=image/jpeg:https://epilepsyswo.ca/wp-content/uploads/2022/11/UPLIFT_eventsBanner_20221114.jpg
END:VEVENT
BEGIN:VEVENT
DTSTART;TZID=America/Toronto:20230306T120000
DTEND;TZID=America/Toronto:20230306T130000
DTSTAMP:20260421T025709
CREATED:20230221T152108Z
LAST-MODIFIED:20230221T152108Z
UID:16937-1678104000-1678107600@epilepsyswo.ca
SUMMARY:UPLIFT for Adults
DESCRIPTION:UPLIFT is a free\, eight-week skill-building program to support people in developing coping strategies to deal with stress\, through mindfulness and cognitive behavioural therapy. Participants meet once a week for one hour with groups of 5-8 people over Zoom. Commitment to attend each session is required to benefit from the program\, as well as to ensure the group dynamic remains intact.  \nESWO will host an UPLIFT session for adults who are living with epilepsy.  \nEmail holly@epilepsyswo.ca to register.
URL:https://epilepsyswo.ca/event/uplift-for-adults-2/
CATEGORIES:Chatham/Kent,Huron Perth/Grey Bruce,London/Middlesex,Sarnia/Lambton,Windsor/Essex
ATTACH;FMTTYPE=image/jpeg:https://epilepsyswo.ca/wp-content/uploads/2022/11/UPLIFT_eventsBanner_20221114.jpg
END:VEVENT
BEGIN:VEVENT
DTSTART;TZID=America/Toronto:20230307T130000
DTEND;TZID=America/Toronto:20230307T140000
DTSTAMP:20260421T025709
CREATED:20230104T154318Z
LAST-MODIFIED:20230104T154318Z
UID:16673-1678194000-1678197600@epilepsyswo.ca
SUMMARY:Virtual Adult Support Group
DESCRIPTION:Making connections and building meaningful relationships can be an important part of living a happy and healthy life. Epilepsy can sometimes pose a barrier for people and make it more challenging to establish meaningful relationships. Our virtual support group meets bi-weekly on Tuesdays from 1:00 – 2:00 pm. \nThis is a drop-in group with weekly planned topics to facilitate conversation about issues that are important to people living with epilepsy. Our hope is to provide a space for our community members to meet others with epilepsy and have an opportunity to share their experiences and coping strategies. If you are interested in this session or future sessions\, email holly@epilepsyswo.ca to register.
URL:https://epilepsyswo.ca/event/virtual-adult-support-group-26/
CATEGORIES:Chatham/Kent,Huron Perth/Grey Bruce,London/Middlesex,Sarnia/Lambton,Windsor/Essex
ATTACH;FMTTYPE=image/jpeg:https://epilepsyswo.ca/wp-content/uploads/2018/04/supportgroup.jpg
END:VEVENT
BEGIN:VEVENT
DTSTART;TZID=America/Toronto:20230309T120000
DTEND;TZID=America/Toronto:20230309T130000
DTSTAMP:20260421T025709
CREATED:20221114T203226Z
LAST-MODIFIED:20221114T203226Z
UID:16473-1678363200-1678366800@epilepsyswo.ca
SUMMARY:UPLIFT for Caregivers
DESCRIPTION:UPLIFT is a free\, eight-week skill-building program to support people in developing coping strategies to deal with stress\, through mindfulness and cognitive behavioural therapy. Participants meet once a week for one hour with groups of 5-8 people over Zoom. Commitment to attend each session is required to benefit from the program\, as well as to ensure the group dynamic remains intact.  \nESWO will host an UPLIFT session for those who are caregivers of individuals living with epilepsy.  \nEmail Sandra@epilepsyswo.ca to register.
URL:https://epilepsyswo.ca/event/uplift-for-caregivers-8/
CATEGORIES:Chatham/Kent,Huron Perth/Grey Bruce,London/Middlesex,Sarnia/Lambton,Windsor/Essex
ATTACH;FMTTYPE=image/jpeg:https://epilepsyswo.ca/wp-content/uploads/2022/11/UPLIFT_eventsBanner_20221114.jpg
END:VEVENT
BEGIN:VEVENT
DTSTART;TZID=America/Toronto:20230313T120000
DTEND;TZID=America/Toronto:20230313T130000
DTSTAMP:20260421T025709
CREATED:20230221T152213Z
LAST-MODIFIED:20230221T152213Z
UID:16939-1678708800-1678712400@epilepsyswo.ca
SUMMARY:UPLIFT for Adults
DESCRIPTION:UPLIFT is a free\, eight-week skill-building program to support people in developing coping strategies to deal with stress\, through mindfulness and cognitive behavioural therapy. Participants meet once a week for one hour with groups of 5-8 people over Zoom. Commitment to attend each session is required to benefit from the program\, as well as to ensure the group dynamic remains intact.  \nESWO will host an UPLIFT session for adults who are living with epilepsy.  \nEmail holly@epilepsyswo.ca to register.
URL:https://epilepsyswo.ca/event/uplift-for-adults-3/
CATEGORIES:Chatham/Kent,Huron Perth/Grey Bruce,London/Middlesex,Sarnia/Lambton,Windsor/Essex
ATTACH;FMTTYPE=image/jpeg:https://epilepsyswo.ca/wp-content/uploads/2022/11/UPLIFT_eventsBanner_20221114.jpg
END:VEVENT
BEGIN:VEVENT
DTSTART;TZID=America/Toronto:20230313T150000
DTEND;TZID=America/Toronto:20230313T150000
DTSTAMP:20260421T025709
CREATED:20230209T191229Z
LAST-MODIFIED:20230209T191229Z
UID:16839-1678719600-1678719600@epilepsyswo.ca
SUMMARY:EAM Crock A Doodle
DESCRIPTION:We will be gathering at Crock A Doodle\, 4371 Walker Rd\, Windsor (located inside the Real Canadian Superstore) on Monday\, March 13 at 3:00 pm.  All participants will be responsible for their selection and payment of their pottery piece. \nSpace is limited\, so please RSVP to Lori by Friday\, March 3\, 2023.
URL:https://epilepsyswo.ca/event/eam-crock-a-doodle/
LOCATION:Crock A Doodle\, Windsor\, 4371 Walker Rd\, Windsor\, ON\, N8W 3T6\, Canada
CATEGORIES:Windsor/Essex
ORGANIZER;CN="Epilepsy Southwestern Ontario%2C Windsor":MAILTO:lori@epilepsyswo.ca
END:VEVENT
BEGIN:VEVENT
DTSTART;TZID=America/Toronto:20230313T180000
DTEND;TZID=America/Toronto:20230313T190000
DTSTAMP:20260421T025709
CREATED:20230113T191018Z
LAST-MODIFIED:20230113T191018Z
UID:16738-1678730400-1678734000@epilepsyswo.ca
SUMMARY:Virtual Caregiver Support Group
DESCRIPTION:Making connections and building meaningful relationships can be an important part of living a happy and healthy life. Epilepsy can sometimes pose a barrier for people and make it more challenging to establish meaningful relationships. Our virtual support group meets bi-weekly on Mondays from 6:00 -7:00 pm \nThis is a drop-in group with weekly planned topics to facilitate conversation about issues that are important to people living with epilepsy. Our hope is to provide a space for our community members to meet others with epilepsy and have an opportunity to share their experiences and coping strategies. If you are interested in this session or future sessions\, email holly@epilepsyswo.ca to register.
URL:https://epilepsyswo.ca/event/virtual-caregiver-support-group-9/
CATEGORIES:Chatham/Kent,Huron Perth/Grey Bruce,London/Middlesex,Sarnia/Lambton,Windsor/Essex
ATTACH;FMTTYPE=image/jpeg:https://epilepsyswo.ca/wp-content/uploads/2022/09/caregiver_hands-scaled.jpg
END:VEVENT
BEGIN:VEVENT
DTSTART;TZID=America/Toronto:20230314T130000
DTEND;TZID=America/Toronto:20230314T140000
DTSTAMP:20260421T025709
CREATED:20230104T154801Z
LAST-MODIFIED:20230309T140444Z
UID:16675-1678798800-1678802400@epilepsyswo.ca
SUMMARY:Virtual Adult Support Group
DESCRIPTION:Making connections and building meaningful relationships can be an important part of living a happy and healthy life. Epilepsy can sometimes pose a barrier for people and make it more challenging to establish meaningful relationships. Our virtual support group meets bi-weekly on Tuesdays from 1:00 – 2:00 pm. \nThis is a drop-in group with weekly planned topics to facilitate conversation about issues that are important to people living with epilepsy. Our hope is to provide a space for our community members to meet others with epilepsy and have an opportunity to share their experiences and coping strategies. If you are interested in this session or future sessions\, email holly@epilepsyswo.ca to register.
URL:https://epilepsyswo.ca/event/virtual-adult-support-group-27/
CATEGORIES:Chatham/Kent,Huron Perth/Grey Bruce,London/Middlesex,Sarnia/Lambton,Windsor/Essex
ATTACH;FMTTYPE=image/jpeg:https://epilepsyswo.ca/wp-content/uploads/2018/04/supportgroup.jpg
END:VEVENT
BEGIN:VEVENT
DTSTART;TZID=America/Toronto:20230316T173000
DTEND;TZID=America/Toronto:20230316T203000
DTSTAMP:20260421T025709
CREATED:20230309T141121Z
LAST-MODIFIED:20230309T141121Z
UID:17006-1678987800-1678998600@epilepsyswo.ca
SUMMARY:EAM Client Party
DESCRIPTION:Save the date for our Epilepsy Awareness Month Party in London at East Lions Community Centre on Thursday March 16th! Deck yourself out in purple gear and join us in celebration of Epilepsy Awareness and all of our Epilepsy Warriors. We’ll have games\, epilepsy/purple themed crafts including rock painting\, as well as an indoor scavenger hunt and the opportunity to create your own Epilepsy Awareness Month poster to show your epilepsy pride. You are welcome to bring some photos of yourself or your family to add to your poster! \nPlease email holly@epilepsyswo.ca to RSVP – this helps us to calculate needed supplies.
URL:https://epilepsyswo.ca/event/eam-client-party/
LOCATION:East Lions Community Centre\, 1731 Churchill Ave\, London\, Ontario\, N5W 5P4\, Canada
CATEGORIES:London/Middlesex
END:VEVENT
BEGIN:VEVENT
DTSTART;TZID=America/Toronto:20230320T120000
DTEND;TZID=America/Toronto:20230320T130000
DTSTAMP:20260421T025709
CREATED:20230221T152512Z
LAST-MODIFIED:20230221T152512Z
UID:16941-1679313600-1679317200@epilepsyswo.ca
SUMMARY:UPLIFT for Adults
DESCRIPTION:UPLIFT is a free\, eight-week skill-building program to support people in developing coping strategies to deal with stress\, through mindfulness and cognitive behavioural therapy. Participants meet once a week for one hour with groups of 5-8 people over Zoom. Commitment to attend each session is required to benefit from the program\, as well as to ensure the group dynamic remains intact.  \nESWO will host an UPLIFT session for adults who are living with epilepsy.  \nEmail holly@epilepsyswo.ca to register.
URL:https://epilepsyswo.ca/event/uplift-for-adults-4/
CATEGORIES:Chatham/Kent,Huron Perth/Grey Bruce,London/Middlesex,Sarnia/Lambton,Windsor/Essex
ATTACH;FMTTYPE=image/jpeg:https://epilepsyswo.ca/wp-content/uploads/2022/11/UPLIFT_eventsBanner_20221114.jpg
END:VEVENT
BEGIN:VEVENT
DTSTART;TZID=America/Toronto:20230327T120000
DTEND;TZID=America/Toronto:20230327T130000
DTSTAMP:20260421T025709
CREATED:20230221T152742Z
LAST-MODIFIED:20230221T152742Z
UID:16943-1679918400-1679922000@epilepsyswo.ca
SUMMARY:UPLIFT for Adults
DESCRIPTION:UPLIFT is a free\, eight-week skill-building program to support people in developing coping strategies to deal with stress\, through mindfulness and cognitive behavioural therapy. Participants meet once a week for one hour with groups of 5-8 people over Zoom. Commitment to attend each session is required to benefit from the program\, as well as to ensure the group dynamic remains intact.  \nESWO will host an UPLIFT session for adults who are living with epilepsy.  \nEmail holly@epilepsyswo.ca to register.
URL:https://epilepsyswo.ca/event/uplift-for-adults-5/
CATEGORIES:Chatham/Kent,Huron Perth/Grey Bruce,London/Middlesex,Sarnia/Lambton,Windsor/Essex
ATTACH;FMTTYPE=image/jpeg:https://epilepsyswo.ca/wp-content/uploads/2022/11/UPLIFT_eventsBanner_20221114.jpg
END:VEVENT
BEGIN:VEVENT
DTSTART;TZID=America/Toronto:20230327T180000
DTEND;TZID=America/Toronto:20230327T190000
DTSTAMP:20260421T025709
CREATED:20230113T191132Z
LAST-MODIFIED:20230113T191132Z
UID:16740-1679940000-1679943600@epilepsyswo.ca
SUMMARY:Virtual Caregiver Support Group
DESCRIPTION:Making connections and building meaningful relationships can be an important part of living a happy and healthy life. Epilepsy can sometimes pose a barrier for people and make it more challenging to establish meaningful relationships. Our virtual support group meets bi-weekly on Mondays from 6:00 -7:00 pm \nThis is a drop-in group with weekly planned topics to facilitate conversation about issues that are important to people living with epilepsy. Our hope is to provide a space for our community members to meet others with epilepsy and have an opportunity to share their experiences and coping strategies. If you are interested in this session or future sessions\, email holly@epilepsyswo.ca to register.
URL:https://epilepsyswo.ca/event/virtual-caregiver-support-group-10/
CATEGORIES:Chatham/Kent,Huron Perth/Grey Bruce,London/Middlesex,Sarnia/Lambton,Windsor/Essex
ATTACH;FMTTYPE=image/jpeg:https://epilepsyswo.ca/wp-content/uploads/2022/09/caregiver_hands-scaled.jpg
END:VEVENT
BEGIN:VEVENT
DTSTART;TZID=America/Toronto:20230328T130000
DTEND;TZID=America/Toronto:20230328T140000
DTSTAMP:20260421T025709
CREATED:20230104T155056Z
LAST-MODIFIED:20230309T140720Z
UID:16677-1680008400-1680012000@epilepsyswo.ca
SUMMARY:Virtual Adult Support Group
DESCRIPTION:Making connections and building meaningful relationships can be an important part of living a happy and healthy life. Epilepsy can sometimes pose a barrier for people and make it more challenging to establish meaningful relationships. Our virtual support group meets bi-weekly on Tuesdays from 1:00 – 2:00 pm. \nThis is a drop-in group with weekly planned topics to facilitate conversation about issues that are important to people living with epilepsy. Our hope is to provide a space for our community members to meet others with epilepsy and have an opportunity to share their experiences and coping strategies. If you are interested in this session or future sessions\, email holly@epilepsyswo.ca to register.
URL:https://epilepsyswo.ca/event/virtual-adult-support-group-28/
CATEGORIES:Chatham/Kent,Huron Perth/Grey Bruce,London/Middlesex,Sarnia/Lambton,Windsor/Essex
ATTACH;FMTTYPE=image/jpeg:https://epilepsyswo.ca/wp-content/uploads/2018/04/supportgroup.jpg
END:VEVENT
END:VCALENDAR