BEGIN:VCALENDAR
VERSION:2.0
PRODID:-//Epilepsy Southwestern Ontario - ECPv6.15.18//NONSGML v1.0//EN
CALSCALE:GREGORIAN
METHOD:PUBLISH
X-ORIGINAL-URL:https://epilepsyswo.ca
X-WR-CALDESC:Events for Epilepsy Southwestern Ontario
REFRESH-INTERVAL;VALUE=DURATION:PT1H
X-Robots-Tag:noindex
X-PUBLISHED-TTL:PT1H
BEGIN:VTIMEZONE
TZID:America/Toronto
BEGIN:DAYLIGHT
TZOFFSETFROM:-0500
TZOFFSETTO:-0400
TZNAME:EDT
DTSTART:20220313T070000
END:DAYLIGHT
BEGIN:STANDARD
TZOFFSETFROM:-0400
TZOFFSETTO:-0500
TZNAME:EST
DTSTART:20221106T060000
END:STANDARD
BEGIN:DAYLIGHT
TZOFFSETFROM:-0500
TZOFFSETTO:-0400
TZNAME:EDT
DTSTART:20230312T070000
END:DAYLIGHT
BEGIN:STANDARD
TZOFFSETFROM:-0400
TZOFFSETTO:-0500
TZNAME:EST
DTSTART:20231105T060000
END:STANDARD
BEGIN:DAYLIGHT
TZOFFSETFROM:-0500
TZOFFSETTO:-0400
TZNAME:EDT
DTSTART:20240310T070000
END:DAYLIGHT
BEGIN:STANDARD
TZOFFSETFROM:-0400
TZOFFSETTO:-0500
TZNAME:EST
DTSTART:20241103T060000
END:STANDARD
END:VTIMEZONE
BEGIN:VEVENT
DTSTART;TZID=America/Toronto:20230110T130000
DTEND;TZID=America/Toronto:20230110T140000
DTSTAMP:20260421T063404
CREATED:20230104T150339Z
LAST-MODIFIED:20230104T151903Z
UID:16663-1673355600-1673359200@epilepsyswo.ca
SUMMARY:Virtual Adult Support Group
DESCRIPTION:Making connections and building meaningful relationships can be an important part of living a happy and healthy life. Epilepsy can sometimes pose a barrier for people and make it more challenging to establish meaningful relationships. Our virtual support group meets bi-weekly on Tuesdays from 1:00 – 2:00 pm. \nThis is a drop-in group with weekly planned topics to facilitate conversation about issues that are important to people living with epilepsy. Our hope is to provide a space for our community members to meet others with epilepsy and have an opportunity to share their experiences and coping strategies. If you are interested in this session or future sessions\, email holly@epilepsyswo.ca to register.
URL:https://epilepsyswo.ca/event/virtual-adult-support-group-22/
CATEGORIES:Chatham/Kent,Huron Perth/Grey Bruce,London/Middlesex,Sarnia/Lambton,Windsor/Essex
ATTACH;FMTTYPE=image/jpeg:https://epilepsyswo.ca/wp-content/uploads/2018/04/supportgroup.jpg
END:VEVENT
BEGIN:VEVENT
DTSTART;TZID=America/Toronto:20230118T180000
DTEND;TZID=America/Toronto:20230118T190000
DTSTAMP:20260421T063404
CREATED:20230104T150804Z
LAST-MODIFIED:20230104T150804Z
UID:16665-1674064800-1674068400@epilepsyswo.ca
SUMMARY:Virtual Caregiver Support Group
DESCRIPTION:Making connections and building meaningful relationships can be an important part of living a happy and healthy life. Epilepsy can sometimes pose a barrier for people and make it more challenging to establish meaningful relationships. Our virtual support group meets bi-weekly on Wednesdays from 6:00 -7:00 pm \nThis is a drop-in group with weekly planned topics to facilitate conversation about issues that are important to people living with epilepsy. Our hope is to provide a space for our community members to meet others with epilepsy and have an opportunity to share their experiences and coping strategies. If you are interested in this session or future sessions\, email holly@epilepsyswo.ca to register.
URL:https://epilepsyswo.ca/event/virtual-caregiver-support-group-5/
CATEGORIES:Chatham/Kent,Huron Perth/Grey Bruce,London/Middlesex,Sarnia/Lambton,Windsor/Essex
ATTACH;FMTTYPE=image/jpeg:https://epilepsyswo.ca/wp-content/uploads/2022/09/caregiver_hands-scaled.jpg
END:VEVENT
BEGIN:VEVENT
DTSTART;TZID=America/Toronto:20230119T120000
DTEND;TZID=America/Toronto:20230119T130000
DTSTAMP:20260421T063404
CREATED:20221114T201459Z
LAST-MODIFIED:20221114T201527Z
UID:16458-1674129600-1674133200@epilepsyswo.ca
SUMMARY:UPLIFT for Caregivers
DESCRIPTION:UPLIFT is a free\, eight-week skill-building program to support people in developing coping strategies to deal with stress\, through mindfulness and cognitive behavioural therapy. Participants meet once a week for one hour with groups of 5-8 people over Zoom. Commitment to attend each session is required to benefit from the program\, as well as to ensure the group dynamic remains intact.  \nESWO will host an UPLIFT session for those who are caregivers of individuals living with epilepsy.  \nEmail Sandra@epilepsyswo.ca to register.
URL:https://epilepsyswo.ca/event/uplift-for-caregivers/
CATEGORIES:Chatham/Kent,Huron Perth/Grey Bruce,London/Middlesex,Sarnia/Lambton,Windsor/Essex
ATTACH;FMTTYPE=image/jpeg:https://epilepsyswo.ca/wp-content/uploads/2022/11/UPLIFT_eventsBanner_20221114.jpg
END:VEVENT
BEGIN:VEVENT
DTSTART;TZID=America/Toronto:20230124T130000
DTEND;TZID=America/Toronto:20230124T140000
DTSTAMP:20260421T063404
CREATED:20230104T151935Z
LAST-MODIFIED:20230104T151935Z
UID:16667-1674565200-1674568800@epilepsyswo.ca
SUMMARY:Virtual Adult Support Group
DESCRIPTION:Making connections and building meaningful relationships can be an important part of living a happy and healthy life. Epilepsy can sometimes pose a barrier for people and make it more challenging to establish meaningful relationships. Our virtual support group meets bi-weekly on Tuesdays from 1:00 – 2:00 pm. \nThis is a drop-in group with weekly planned topics to facilitate conversation about issues that are important to people living with epilepsy. Our hope is to provide a space for our community members to meet others with epilepsy and have an opportunity to share their experiences and coping strategies. If you are interested in this session or future sessions\, email holly@epilepsyswo.ca to register.
URL:https://epilepsyswo.ca/event/virtual-adult-support-group-23/
CATEGORIES:Chatham/Kent,Huron Perth/Grey Bruce,London/Middlesex,Sarnia/Lambton,Windsor/Essex
ATTACH;FMTTYPE=image/jpeg:https://epilepsyswo.ca/wp-content/uploads/2018/04/supportgroup.jpg
END:VEVENT
BEGIN:VEVENT
DTSTART;TZID=America/Toronto:20230126T120000
DTEND;TZID=America/Toronto:20230126T130000
DTSTAMP:20260421T063404
CREATED:20221114T201808Z
LAST-MODIFIED:20221114T201808Z
UID:16461-1674734400-1674738000@epilepsyswo.ca
SUMMARY:UPLIFT for Caregivers
DESCRIPTION:UPLIFT is a free\, eight-week skill-building program to support people in developing coping strategies to deal with stress\, through mindfulness and cognitive behavioural therapy. Participants meet once a week for one hour with groups of 5-8 people over Zoom. Commitment to attend each session is required to benefit from the program\, as well as to ensure the group dynamic remains intact.  \nESWO will host an UPLIFT session for those who are caregivers of individuals living with epilepsy.  \nEmail Sandra@epilepsyswo.ca to register.
URL:https://epilepsyswo.ca/event/uplift-for-caregivers-2/
CATEGORIES:Chatham/Kent,Huron Perth/Grey Bruce,London/Middlesex,Sarnia/Lambton,Windsor/Essex
ATTACH;FMTTYPE=image/jpeg:https://epilepsyswo.ca/wp-content/uploads/2022/11/UPLIFT_eventsBanner_20221114.jpg
END:VEVENT
BEGIN:VEVENT
DTSTART;TZID=America/Toronto:20230130T180000
DTEND;TZID=America/Toronto:20230130T190000
DTSTAMP:20260421T063404
CREATED:20230113T190049Z
LAST-MODIFIED:20230113T190049Z
UID:16732-1675101600-1675105200@epilepsyswo.ca
SUMMARY:Virtual Caregiver Support Group
DESCRIPTION:Making connections and building meaningful relationships can be an important part of living a happy and healthy life. Epilepsy can sometimes pose a barrier for people and make it more challenging to establish meaningful relationships. Our virtual support group meets bi-weekly on Mondays from 6:00 -7:00 pm \nThis is a drop-in group with weekly planned topics to facilitate conversation about issues that are important to people living with epilepsy. Our hope is to provide a space for our community members to meet others with epilepsy and have an opportunity to share their experiences and coping strategies. If you are interested in this session or future sessions\, email holly@epilepsyswo.ca to register.
URL:https://epilepsyswo.ca/event/virtual-caregiver-support-group-6/
CATEGORIES:Chatham/Kent,Huron Perth/Grey Bruce,London/Middlesex,Sarnia/Lambton,Windsor/Essex
ATTACH;FMTTYPE=image/jpeg:https://epilepsyswo.ca/wp-content/uploads/2022/09/caregiver_hands-scaled.jpg
END:VEVENT
END:VCALENDAR