BEGIN:VCALENDAR
VERSION:2.0
PRODID:-//Epilepsy Southwestern Ontario - ECPv6.15.18//NONSGML v1.0//EN
CALSCALE:GREGORIAN
METHOD:PUBLISH
X-WR-CALNAME:Epilepsy Southwestern Ontario
X-ORIGINAL-URL:https://epilepsyswo.ca
X-WR-CALDESC:Events for Epilepsy Southwestern Ontario
REFRESH-INTERVAL;VALUE=DURATION:PT1H
X-Robots-Tag:noindex
X-PUBLISHED-TTL:PT1H
BEGIN:VTIMEZONE
TZID:America/Toronto
BEGIN:DAYLIGHT
TZOFFSETFROM:-0500
TZOFFSETTO:-0400
TZNAME:EDT
DTSTART:20210314T070000
END:DAYLIGHT
BEGIN:STANDARD
TZOFFSETFROM:-0400
TZOFFSETTO:-0500
TZNAME:EST
DTSTART:20211107T060000
END:STANDARD
BEGIN:DAYLIGHT
TZOFFSETFROM:-0500
TZOFFSETTO:-0400
TZNAME:EDT
DTSTART:20220313T070000
END:DAYLIGHT
BEGIN:STANDARD
TZOFFSETFROM:-0400
TZOFFSETTO:-0500
TZNAME:EST
DTSTART:20221106T060000
END:STANDARD
BEGIN:DAYLIGHT
TZOFFSETFROM:-0500
TZOFFSETTO:-0400
TZNAME:EDT
DTSTART:20230312T070000
END:DAYLIGHT
BEGIN:STANDARD
TZOFFSETFROM:-0400
TZOFFSETTO:-0500
TZNAME:EST
DTSTART:20231105T060000
END:STANDARD
END:VTIMEZONE
BEGIN:VEVENT
DTSTART;TZID=America/Toronto:20220802T160000
DTEND;TZID=America/Toronto:20220802T170000
DTSTAMP:20260421T153744
CREATED:20220729T151355Z
LAST-MODIFIED:20220729T151355Z
UID:15943-1659456000-1659459600@epilepsyswo.ca
SUMMARY:Virtual Teen Support Group
DESCRIPTION:Making connections and building meaningful relationships can be an important part of living a happy and healthy life. Epilepsy can sometimes pose a barrier for people and make it more challenging to establish meaningful relationships. Our virtual support group meets bi-weekly on Tuesdays from 4:00 – 5:00 pm. \nThis is a drop-in group with weekly planned topics to facilitate conversation about issues that are important to people living with epilepsy. Our hope is to provide a space for our community members to meet others with epilepsy and have an opportunity to share their experiences and coping strategies. If you are interested in this session or future sessions\, email holly@epilepsyswo.ca to register.
URL:https://epilepsyswo.ca/event/virtual-teen-support-group-15/
CATEGORIES:Chatham/Kent,Huron Perth/Grey Bruce,London/Middlesex,Sarnia/Lambton,Windsor/Essex
ATTACH;FMTTYPE=image/jpeg:https://epilepsyswo.ca/wp-content/uploads/2021/07/teen-group-photo.jpg
END:VEVENT
BEGIN:VEVENT
DTSTART;TZID=America/Toronto:20220809T160000
DTEND;TZID=America/Toronto:20220809T170000
DTSTAMP:20260421T153744
CREATED:20220729T153231Z
LAST-MODIFIED:20220729T153231Z
UID:15950-1660060800-1660064400@epilepsyswo.ca
SUMMARY:Virtual Adult Support Group
DESCRIPTION:Making connections and building meaningful relationships can be an important part of living a happy and healthy life. Epilepsy can sometimes pose a barrier for people and make it more challenging to establish meaningful relationships. Our virtual support group meets bi-weekly on Tuesdays from 4:00 – 5:00 pm. \nThis is a drop-in group with weekly planned topics to facilitate conversation about issues that are important to people living with epilepsy. Our hope is to provide a space for our community members to meet others with epilepsy and have an opportunity to share their experiences and coping strategies. If you are interested in this session or future sessions\, email holly@epilepsyswo.ca to register.
URL:https://epilepsyswo.ca/event/virtual-adult-support-group-15/
CATEGORIES:Chatham/Kent,Huron Perth/Grey Bruce,London/Middlesex,Sarnia/Lambton,Windsor/Essex
ATTACH;FMTTYPE=image/jpeg:https://epilepsyswo.ca/wp-content/uploads/2018/04/supportgroup.jpg
END:VEVENT
BEGIN:VEVENT
DTSTART;TZID=America/Toronto:20220825T170000
DTEND;TZID=America/Toronto:20220825T190000
DTSTAMP:20260421T153744
CREATED:20220729T145407Z
LAST-MODIFIED:20220815T190822Z
UID:15939-1661446800-1661454000@epilepsyswo.ca
SUMMARY:Client BBQ & AGM
DESCRIPTION:Save the Date for the Client BBQ & AGM on August 25\, 2022 at the Graham Family Eco Park. \nPlease join us for a BBQ (our treat) and AGM. \n5:00 p.m. – OTF Announcement \n5:20 p.m. – Social and BBQ \n6:00 p.m. – Annual General Meeting \nPlease connect with michelle@epilepsyswo.ca to RSVP by August 23\, 2022.
URL:https://epilepsyswo.ca/event/client-bbq-agm/
LOCATION:Graham Family Eco-Park\, 16033 Medway Rd\, Arva\, Ontario\, N0M 1C0\, Canada
CATEGORIES:Chatham/Kent,Huron Perth/Grey Bruce,London/Middlesex,Sarnia/Lambton,Windsor/Essex
END:VEVENT
END:VCALENDAR