BEGIN:VCALENDAR
VERSION:2.0
PRODID:-//Epilepsy Southwestern Ontario - ECPv6.15.18//NONSGML v1.0//EN
CALSCALE:GREGORIAN
METHOD:PUBLISH
X-ORIGINAL-URL:https://epilepsyswo.ca
X-WR-CALDESC:Events for Epilepsy Southwestern Ontario
REFRESH-INTERVAL;VALUE=DURATION:PT1H
X-Robots-Tag:noindex
X-PUBLISHED-TTL:PT1H
BEGIN:VTIMEZONE
TZID:America/Toronto
BEGIN:DAYLIGHT
TZOFFSETFROM:-0500
TZOFFSETTO:-0400
TZNAME:EDT
DTSTART:20210314T070000
END:DAYLIGHT
BEGIN:STANDARD
TZOFFSETFROM:-0400
TZOFFSETTO:-0500
TZNAME:EST
DTSTART:20211107T060000
END:STANDARD
BEGIN:DAYLIGHT
TZOFFSETFROM:-0500
TZOFFSETTO:-0400
TZNAME:EDT
DTSTART:20220313T070000
END:DAYLIGHT
BEGIN:STANDARD
TZOFFSETFROM:-0400
TZOFFSETTO:-0500
TZNAME:EST
DTSTART:20221106T060000
END:STANDARD
BEGIN:DAYLIGHT
TZOFFSETFROM:-0500
TZOFFSETTO:-0400
TZNAME:EDT
DTSTART:20230312T070000
END:DAYLIGHT
BEGIN:STANDARD
TZOFFSETFROM:-0400
TZOFFSETTO:-0500
TZNAME:EST
DTSTART:20231105T060000
END:STANDARD
END:VTIMEZONE
BEGIN:VEVENT
DTSTART;TZID=America/Toronto:20220705T160000
DTEND;TZID=America/Toronto:20220705T170000
DTSTAMP:20260421T172122
CREATED:20220630T133314Z
LAST-MODIFIED:20220630T133314Z
UID:15819-1657036800-1657040400@epilepsyswo.ca
SUMMARY:Virtual Teen Support Group
DESCRIPTION:Making connections and building meaningful relationships can be an important part of living a happy and healthy life. Epilepsy can sometimes pose a barrier for people and make it more challenging to establish meaningful relationships. Our virtual support group meets bi-weekly on Tuesdays from 4:00 – 5:00 pm. \nThis is a drop-in group with weekly planned topics to facilitate conversation about issues that are important to people living with epilepsy. Our hope is to provide a space for our community members to meet others with epilepsy and have an opportunity to share their experiences and coping strategies. If you are interested in this session or future sessions\, email holly@epilepsyswo.ca to register.
URL:https://epilepsyswo.ca/event/virtual-teen-support-group-13/
CATEGORIES:Chatham/Kent,Huron Perth/Grey Bruce,London/Middlesex,Sarnia/Lambton,Windsor/Essex
ATTACH;FMTTYPE=image/jpeg:https://epilepsyswo.ca/wp-content/uploads/2021/07/teen-group-photo.jpg
END:VEVENT
BEGIN:VEVENT
DTSTART;TZID=America/Toronto:20220707T110000
DTEND;TZID=America/Toronto:20220710T170000
DTSTAMP:20260421T172122
CREATED:20220707T144422Z
LAST-MODIFIED:20220707T144911Z
UID:15841-1657191600-1657472400@epilepsyswo.ca
SUMMARY:50/50 Draw at Chatham-Kent Ribfest 2022
DESCRIPTION:We’re excited to partner with the Chatham-Kent Ribfest by hosting a 50/50 draw in support of ESWO and individuals living with epilepsy. ESWO will be attending and have a booth set up at the Chatham Ribfest July 7-10\, 2022 in Tecumseh Park. \nTicket purchases must be made no later than 4:30pm on July 10\, 2022\, in order to be eligible for this 50/50 draw. \nTickets: 200 for $40\, 60 for $20\, or 10 for $10. \nPurchase tickets online: https://www.rafflebox.ca/raffle/epilepsyswo \nFor more information or any questions about this 50/50 draw\, please contact sandra@epilepsyswo.ca
URL:https://epilepsyswo.ca/event/5050-chatham-ribfest/
LOCATION:Tecumseh Park\, Chatham\, Ontario\, Canada
CATEGORIES:Chatham/Kent,Huron Perth/Grey Bruce,London/Middlesex,Sarnia/Lambton,Windsor/Essex
ORGANIZER;CN="Epilepsy Southwestern Ontario%2C Chatham":MAILTO:sandra@epilepsyswo.ca
END:VEVENT
BEGIN:VEVENT
DTSTART;TZID=America/Toronto:20220712T160000
DTEND;TZID=America/Toronto:20220712T170000
DTSTAMP:20260421T172122
CREATED:20220630T133406Z
LAST-MODIFIED:20220630T133406Z
UID:15821-1657641600-1657645200@epilepsyswo.ca
SUMMARY:Virtual Adult Support Group
DESCRIPTION:Making connections and building meaningful relationships can be an important part of living a happy and healthy life. Epilepsy can sometimes pose a barrier for people and make it more challenging to establish meaningful relationships. Our virtual support group meets bi-weekly on Tuesdays from 4:00 – 5:00 pm. \nThis is a drop-in group with weekly planned topics to facilitate conversation about issues that are important to people living with epilepsy. Our hope is to provide a space for our community members to meet others with epilepsy and have an opportunity to share their experiences and coping strategies. If you are interested in this session or future sessions\, email holly@epilepsyswo.ca to register.
URL:https://epilepsyswo.ca/event/virtual-adult-support-group-13/
CATEGORIES:Chatham/Kent,Huron Perth/Grey Bruce,London/Middlesex,Sarnia/Lambton,Windsor/Essex
ATTACH;FMTTYPE=image/jpeg:https://epilepsyswo.ca/wp-content/uploads/2018/04/supportgroup.jpg
END:VEVENT
BEGIN:VEVENT
DTSTART;TZID=America/Toronto:20220719T160000
DTEND;TZID=America/Toronto:20220719T170000
DTSTAMP:20260421T172122
CREATED:20220630T140049Z
LAST-MODIFIED:20220630T140049Z
UID:15823-1658246400-1658250000@epilepsyswo.ca
SUMMARY:Virtual Teen Support Group
DESCRIPTION:Making connections and building meaningful relationships can be an important part of living a happy and healthy life. Epilepsy can sometimes pose a barrier for people and make it more challenging to establish meaningful relationships. Our virtual support group meets bi-weekly on Tuesdays from 4:00 – 5:00 pm. \nThis is a drop-in group with weekly planned topics to facilitate conversation about issues that are important to people living with epilepsy. Our hope is to provide a space for our community members to meet others with epilepsy and have an opportunity to share their experiences and coping strategies. If you are interested in this session or future sessions\, email holly@epilepsyswo.ca to register.
URL:https://epilepsyswo.ca/event/virtual-teen-support-group-14/
CATEGORIES:Chatham/Kent,Huron Perth/Grey Bruce,London/Middlesex,Sarnia/Lambton,Windsor/Essex
ATTACH;FMTTYPE=image/jpeg:https://epilepsyswo.ca/wp-content/uploads/2021/07/teen-group-photo.jpg
END:VEVENT
BEGIN:VEVENT
DTSTART;TZID=America/Toronto:20220726T160000
DTEND;TZID=America/Toronto:20220726T170000
DTSTAMP:20260421T172122
CREATED:20220630T140209Z
LAST-MODIFIED:20220630T140209Z
UID:15825-1658851200-1658854800@epilepsyswo.ca
SUMMARY:Virtual Adult Support Group
DESCRIPTION:Making connections and building meaningful relationships can be an important part of living a happy and healthy life. Epilepsy can sometimes pose a barrier for people and make it more challenging to establish meaningful relationships. Our virtual support group meets bi-weekly on Tuesdays from 4:00 – 5:00 pm. \nThis is a drop-in group with weekly planned topics to facilitate conversation about issues that are important to people living with epilepsy. Our hope is to provide a space for our community members to meet others with epilepsy and have an opportunity to share their experiences and coping strategies. If you are interested in this session or future sessions\, email holly@epilepsyswo.ca to register.
URL:https://epilepsyswo.ca/event/virtual-adult-support-group-14/
CATEGORIES:Chatham/Kent,Huron Perth/Grey Bruce,London/Middlesex,Sarnia/Lambton,Windsor/Essex
ATTACH;FMTTYPE=image/jpeg:https://epilepsyswo.ca/wp-content/uploads/2018/04/supportgroup.jpg
END:VEVENT
BEGIN:VEVENT
DTSTART;TZID=America/Toronto:20220731T140000
DTEND;TZID=America/Toronto:20220731T220000
DTSTAMP:20260421T172122
CREATED:20220711T135051Z
LAST-MODIFIED:20220711T135112Z
UID:15856-1659276000-1659304800@epilepsyswo.ca
SUMMARY:Third Party: Second Annual Memorial Skate For David
DESCRIPTION:The Second Annual Memorial Skate for David will be held on July 31st at Atkinson Park in Windsor on University Ave W from 2pm until dark. Come enjoy some food\, refreshments and good vibes. Entry is free. \nSkate\, scoot or bike! Make sure to stop by for a free hot dog\, chips and pop from the Postma family in honour of their son. There will also be a donation box for Epilepsy Southwestern Ontario.
URL:https://epilepsyswo.ca/event/third-party-second-annual-memorial-skate-for-david/
LOCATION:Atkinson Skate Park\, University Ave W\, Windsor\, Ontario\, N9B 1A7\, Canada
CATEGORIES:Chatham/Kent,Huron Perth/Grey Bruce,London/Middlesex,Sarnia/Lambton,Windsor/Essex
ATTACH;FMTTYPE=image/jpeg:https://epilepsyswo.ca/wp-content/uploads/2022/07/292778936_5706750399371484_1029313854543591476_n.jpg
END:VEVENT
END:VCALENDAR