BEGIN:VCALENDAR
VERSION:2.0
PRODID:-//Epilepsy Southwestern Ontario - ECPv6.15.18//NONSGML v1.0//EN
CALSCALE:GREGORIAN
METHOD:PUBLISH
X-ORIGINAL-URL:https://epilepsyswo.ca
X-WR-CALDESC:Events for Epilepsy Southwestern Ontario
REFRESH-INTERVAL;VALUE=DURATION:PT1H
X-Robots-Tag:noindex
X-PUBLISHED-TTL:PT1H
BEGIN:VTIMEZONE
TZID:America/Toronto
BEGIN:DAYLIGHT
TZOFFSETFROM:-0500
TZOFFSETTO:-0400
TZNAME:EDT
DTSTART:20210314T070000
END:DAYLIGHT
BEGIN:STANDARD
TZOFFSETFROM:-0400
TZOFFSETTO:-0500
TZNAME:EST
DTSTART:20211107T060000
END:STANDARD
BEGIN:DAYLIGHT
TZOFFSETFROM:-0500
TZOFFSETTO:-0400
TZNAME:EDT
DTSTART:20220313T070000
END:DAYLIGHT
BEGIN:STANDARD
TZOFFSETFROM:-0400
TZOFFSETTO:-0500
TZNAME:EST
DTSTART:20221106T060000
END:STANDARD
BEGIN:DAYLIGHT
TZOFFSETFROM:-0500
TZOFFSETTO:-0400
TZNAME:EDT
DTSTART:20230312T070000
END:DAYLIGHT
BEGIN:STANDARD
TZOFFSETFROM:-0400
TZOFFSETTO:-0500
TZNAME:EST
DTSTART:20231105T060000
END:STANDARD
END:VTIMEZONE
BEGIN:VEVENT
DTSTART;TZID=America/Toronto:20220607T160000
DTEND;TZID=America/Toronto:20220607T170000
DTSTAMP:20260421T192439
CREATED:20220530T132916Z
LAST-MODIFIED:20220530T132916Z
UID:15529-1654617600-1654621200@epilepsyswo.ca
SUMMARY:Virtual Teen Support Group
DESCRIPTION:Making connections and building meaningful relationships can be an important part of living a happy and healthy life. Epilepsy can sometimes pose a barrier for people and make it more challenging to establish meaningful relationships. Our virtual support group meets bi-weekly on Tuesdays from 4:00 – 5:00 pm. \nThis is a drop-in group with weekly planned topics to facilitate conversation about issues that are important to people living with epilepsy. Our hope is to provide a space for our community members to meet others with epilepsy and have an opportunity to share their experiences and coping strategies. If you are interested in this session or future sessions\, email holly@epilepsyswo.ca to register.
URL:https://epilepsyswo.ca/event/virtual-teen-support-group-11/
CATEGORIES:Chatham/Kent,Huron Perth/Grey Bruce,London/Middlesex,Sarnia/Lambton,Windsor/Essex
ATTACH;FMTTYPE=image/jpeg:https://epilepsyswo.ca/wp-content/uploads/2021/07/teen-group-photo.jpg
END:VEVENT
BEGIN:VEVENT
DTSTART;TZID=America/Toronto:20220614T160000
DTEND;TZID=America/Toronto:20220614T170000
DTSTAMP:20260421T192439
CREATED:20220608T144805Z
LAST-MODIFIED:20220608T144805Z
UID:15677-1655222400-1655226000@epilepsyswo.ca
SUMMARY:Virtual Adult Support Group
DESCRIPTION:Making connections and building meaningful relationships can be an important part of living a happy and healthy life. Epilepsy can sometimes pose a barrier for people and make it more challenging to establish meaningful relationships. Our virtual support group meets bi-weekly on Tuesdays from 4:00 – 5:00 pm. \nThis is a drop-in group with weekly planned topics to facilitate conversation about issues that are important to people living with epilepsy. Our hope is to provide a space for our community members to meet others with epilepsy and have an opportunity to share their experiences and coping strategies. If you are interested in this session or future sessions\, email holly@epilepsyswo.ca to register.
URL:https://epilepsyswo.ca/event/virtual-adult-support-group-11/
CATEGORIES:Chatham/Kent,Huron Perth/Grey Bruce,London/Middlesex,Sarnia/Lambton,Windsor/Essex
ATTACH;FMTTYPE=image/jpeg:https://epilepsyswo.ca/wp-content/uploads/2018/04/supportgroup.jpg
END:VEVENT
BEGIN:VEVENT
DTSTART;TZID=America/Toronto:20220621T160000
DTEND;TZID=America/Toronto:20220621T170000
DTSTAMP:20260421T192439
CREATED:20220608T144905Z
LAST-MODIFIED:20220608T144905Z
UID:15679-1655827200-1655830800@epilepsyswo.ca
SUMMARY:Virtual Teen Support Group
DESCRIPTION:Making connections and building meaningful relationships can be an important part of living a happy and healthy life. Epilepsy can sometimes pose a barrier for people and make it more challenging to establish meaningful relationships. Our virtual support group meets bi-weekly on Tuesdays from 4:00 – 5:00 pm. \nThis is a drop-in group with weekly planned topics to facilitate conversation about issues that are important to people living with epilepsy. Our hope is to provide a space for our community members to meet others with epilepsy and have an opportunity to share their experiences and coping strategies. If you are interested in this session or future sessions\, email holly@epilepsyswo.ca to register.
URL:https://epilepsyswo.ca/event/virtual-teen-support-group-12/
CATEGORIES:Chatham/Kent,Huron Perth/Grey Bruce,London/Middlesex,Sarnia/Lambton,Windsor/Essex
ATTACH;FMTTYPE=image/jpeg:https://epilepsyswo.ca/wp-content/uploads/2021/07/teen-group-photo.jpg
END:VEVENT
BEGIN:VEVENT
DTSTART;TZID=America/Toronto:20220628T160000
DTEND;TZID=America/Toronto:20220628T170000
DTSTAMP:20260421T192439
CREATED:20220608T145014Z
LAST-MODIFIED:20220608T145014Z
UID:15681-1656432000-1656435600@epilepsyswo.ca
SUMMARY:Virtual Adult Support Group
DESCRIPTION:Making connections and building meaningful relationships can be an important part of living a happy and healthy life. Epilepsy can sometimes pose a barrier for people and make it more challenging to establish meaningful relationships. Our virtual support group meets bi-weekly on Tuesdays from 4:00 – 5:00 pm. \nThis is a drop-in group with weekly planned topics to facilitate conversation about issues that are important to people living with epilepsy. Our hope is to provide a space for our community members to meet others with epilepsy and have an opportunity to share their experiences and coping strategies. If you are interested in this session or future sessions\, email holly@epilepsyswo.ca to register.
URL:https://epilepsyswo.ca/event/virtual-adult-support-group-12/
CATEGORIES:Chatham/Kent,Huron Perth/Grey Bruce,London/Middlesex,Sarnia/Lambton,Windsor/Essex
ATTACH;FMTTYPE=image/jpeg:https://epilepsyswo.ca/wp-content/uploads/2018/04/supportgroup.jpg
END:VEVENT
END:VCALENDAR