BEGIN:VCALENDAR
VERSION:2.0
PRODID:-//Epilepsy Southwestern Ontario - ECPv6.15.18//NONSGML v1.0//EN
CALSCALE:GREGORIAN
METHOD:PUBLISH
X-ORIGINAL-URL:https://epilepsyswo.ca
X-WR-CALDESC:Events for Epilepsy Southwestern Ontario
REFRESH-INTERVAL;VALUE=DURATION:PT1H
X-Robots-Tag:noindex
X-PUBLISHED-TTL:PT1H
BEGIN:VTIMEZONE
TZID:America/Toronto
BEGIN:DAYLIGHT
TZOFFSETFROM:-0500
TZOFFSETTO:-0400
TZNAME:EDT
DTSTART:20170312T070000
END:DAYLIGHT
BEGIN:STANDARD
TZOFFSETFROM:-0400
TZOFFSETTO:-0500
TZNAME:EST
DTSTART:20171105T060000
END:STANDARD
BEGIN:DAYLIGHT
TZOFFSETFROM:-0500
TZOFFSETTO:-0400
TZNAME:EDT
DTSTART:20180311T070000
END:DAYLIGHT
BEGIN:STANDARD
TZOFFSETFROM:-0400
TZOFFSETTO:-0500
TZNAME:EST
DTSTART:20181104T060000
END:STANDARD
BEGIN:DAYLIGHT
TZOFFSETFROM:-0500
TZOFFSETTO:-0400
TZNAME:EDT
DTSTART:20190310T070000
END:DAYLIGHT
BEGIN:STANDARD
TZOFFSETFROM:-0400
TZOFFSETTO:-0500
TZNAME:EST
DTSTART:20191103T060000
END:STANDARD
BEGIN:DAYLIGHT
TZOFFSETFROM:-0500
TZOFFSETTO:-0400
TZNAME:EDT
DTSTART:20200308T070000
END:DAYLIGHT
BEGIN:STANDARD
TZOFFSETFROM:-0400
TZOFFSETTO:-0500
TZNAME:EST
DTSTART:20201101T060000
END:STANDARD
END:VTIMEZONE
BEGIN:VEVENT
DTSTART;TZID=America/Toronto:20190531T173000
DTEND;TZID=America/Toronto:20190531T200000
DTSTAMP:20260421T205944
CREATED:20190424T170520Z
LAST-MODIFIED:20190528T155326Z
UID:9084-1559323800-1559332800@epilepsyswo.ca
SUMMARY:Epilepsy Information and Fundraising Dinner
DESCRIPTION:The Chatham Neurology Center and Julia’s Health and Beauty Clinic presents an Epilepsy Educational night: Update in Epilepsy management for patients and primary healthcare providers. \nPresented by: Dr. Awad Mortada. MD\, FRCPC\, Neurologist & Sandra Pidduck\, Epilepsy Educator with the Epilepsy Southwestern Ontario Program. \nSponsored by: UCB (Pharmaceutical Company) \n\nThe Agenda for the evening includes dinner\, speeches and raffle prizes. All the donations and fundraising benefit are to support the Epilepsy Southwestern Ontario Programs and Services. \nEvery Epilepsy Patient will have no charge. \n\n\n\n\n\nDate: Friday\, May 31\, 2019 \nTime: 5:30pm – 8:00pm \nLocation. Ten-Seven Cafe and Lounge \n595 St Clair St. Chatham\, ON N7L 3L3 Canada \nTickets on sale on our EventBrite page.  \n  \n 
URL:https://epilepsyswo.ca/event/ckfundraisingdinner/
CATEGORIES:Chatham/Kent
ORGANIZER;CN="Epilepsy Southwestern Ontario%2C Chatham":MAILTO:sandra@epilepsyswo.ca
END:VEVENT
BEGIN:VEVENT
DTSTART;TZID=America/Toronto:20181113T183000
DTEND;TZID=America/Toronto:20181113T203000
DTSTAMP:20260421T205944
CREATED:20181022T195518Z
LAST-MODIFIED:20181022T195823Z
UID:6618-1542133800-1542141000@epilepsyswo.ca
SUMMARY:Support Group - Parent Check In
DESCRIPTION:A kid free zone to informally chat and share our strategies \nTuesday\, November 13\, 2018 \n6:30pm – 8:30pm \nWilliams Street Cafe (28 William St S\, Chatham\, ON N7M 4S1) \nFor more information: call 519.365.5131 or email sandra@epilepsyswo.ca
URL:https://epilepsyswo.ca/event/support-group-parent-check-in/
LOCATION:Williams Street Cafe\, 28 William St S\, Chatham\, Ontario\, N7M 4S1\, Canada
CATEGORIES:Chatham/Kent
ORGANIZER;CN="Epilepsy Southwestern Ontario%2C Chatham":MAILTO:sandra@epilepsyswo.ca
END:VEVENT
BEGIN:VEVENT
DTSTART;TZID=America/Toronto:20180924T170000
DTEND;TZID=America/Toronto:20180924T200000
DTSTAMP:20260421T205944
CREATED:20180914T152331Z
LAST-MODIFIED:20180919T011547Z
UID:6342-1537808400-1537819200@epilepsyswo.ca
SUMMARY:Epilepsy Information Night - Chatham
DESCRIPTION:For people living with epilepsy and their families \nAn Epilepsy Educator will help you learn the basics of epilepsy and how to live well with seizures. \nWhen: September 24th\, 2018 from 5 p.m. – 8 p.m. \nWhere: Retro Suites Hotel – The Derby Banquet Center \n2 King Street West\, Chatham\, ON \nFree event (including dinner) \nPlease RSVP by Friday\, September 7th to reem@epilepsyswo.ca or by calling 519.433.4073 \nHosted by Epilepsy Southwestern Ontario and UCB
URL:https://epilepsyswo.ca/event/epilepsy-information-night-chatham/
LOCATION:Retro Suites Hotel – The Derby Banquet Center\, 2 King Street West\, Chatham\, Ontario\, N7M 1C6\, Canada
CATEGORIES:Chatham/Kent
ATTACH;FMTTYPE=image/jpeg:https://epilepsyswo.ca/wp-content/uploads/2018/08/epilepsy_info_night_header.jpg
END:VEVENT
BEGIN:VEVENT
DTSTART;TZID=America/Toronto:20180721T100000
DTEND;TZID=America/Toronto:20180721T150000
DTSTAMP:20260421T205944
CREATED:20180626T195651Z
LAST-MODIFIED:20180629T184523Z
UID:5817-1532167200-1532185200@epilepsyswo.ca
SUMMARY:Family Fun Day
DESCRIPTION:Join us\, Saturday July 21\, 2018 from 10:00 a.m. until 3:00 p.m. at Kingston Park ( 91 Paxton Drive\, Chatham\, ON) for a day of splash pad fun for our Chatham-Kent families. Please bring your own picnic. \nOnline registration is through the eventbrite website: \nSearch: Epilepsy Southwestern Ontario to find our event. \nLooking forward to seeing everyone there!
URL:https://epilepsyswo.ca/event/family-fun-day/
CATEGORIES:Chatham/Kent
ORGANIZER;CN="Epilepsy Southwestern Ontario%2C Chatham":MAILTO:sandra@epilepsyswo.ca
END:VEVENT
BEGIN:VEVENT
DTSTART;TZID=America/Toronto:20180526T100000
DTEND;TZID=America/Toronto:20180526T120000
DTSTAMP:20260421T205944
CREATED:20180516T133711Z
LAST-MODIFIED:20180516T133711Z
UID:4990-1527328800-1527336000@epilepsyswo.ca
SUMMARY:Fire Safety Day
DESCRIPTION:A family safety day for the whole family with tours of the fire station and firetrucks\, fun activities and more! \nPlease register online through eventbrite (Search: Epilpesy Southwestern Ontario)
URL:https://epilepsyswo.ca/event/fire-safety-day/
CATEGORIES:Chatham/Kent
END:VEVENT
END:VCALENDAR