BEGIN:VCALENDAR
VERSION:2.0
PRODID:-//Epilepsy Southwestern Ontario - ECPv6.15.18//NONSGML v1.0//EN
CALSCALE:GREGORIAN
METHOD:PUBLISH
X-ORIGINAL-URL:https://epilepsyswo.ca
X-WR-CALDESC:Events for Epilepsy Southwestern Ontario
REFRESH-INTERVAL;VALUE=DURATION:PT1H
X-Robots-Tag:noindex
X-PUBLISHED-TTL:PT1H
BEGIN:VTIMEZONE
TZID:America/Toronto
BEGIN:DAYLIGHT
TZOFFSETFROM:-0500
TZOFFSETTO:-0400
TZNAME:EDT
DTSTART:20170312T070000
END:DAYLIGHT
BEGIN:STANDARD
TZOFFSETFROM:-0400
TZOFFSETTO:-0500
TZNAME:EST
DTSTART:20171105T060000
END:STANDARD
BEGIN:DAYLIGHT
TZOFFSETFROM:-0500
TZOFFSETTO:-0400
TZNAME:EDT
DTSTART:20180311T070000
END:DAYLIGHT
BEGIN:STANDARD
TZOFFSETFROM:-0400
TZOFFSETTO:-0500
TZNAME:EST
DTSTART:20181104T060000
END:STANDARD
BEGIN:DAYLIGHT
TZOFFSETFROM:-0500
TZOFFSETTO:-0400
TZNAME:EDT
DTSTART:20190310T070000
END:DAYLIGHT
BEGIN:STANDARD
TZOFFSETFROM:-0400
TZOFFSETTO:-0500
TZNAME:EST
DTSTART:20191103T060000
END:STANDARD
BEGIN:DAYLIGHT
TZOFFSETFROM:-0500
TZOFFSETTO:-0400
TZNAME:EDT
DTSTART:20200308T070000
END:DAYLIGHT
BEGIN:STANDARD
TZOFFSETFROM:-0400
TZOFFSETTO:-0500
TZNAME:EST
DTSTART:20201101T060000
END:STANDARD
BEGIN:DAYLIGHT
TZOFFSETFROM:-0500
TZOFFSETTO:-0400
TZNAME:EDT
DTSTART:20210314T070000
END:DAYLIGHT
BEGIN:STANDARD
TZOFFSETFROM:-0400
TZOFFSETTO:-0500
TZNAME:EST
DTSTART:20211107T060000
END:STANDARD
BEGIN:DAYLIGHT
TZOFFSETFROM:-0500
TZOFFSETTO:-0400
TZNAME:EDT
DTSTART:20220313T070000
END:DAYLIGHT
BEGIN:STANDARD
TZOFFSETFROM:-0400
TZOFFSETTO:-0500
TZNAME:EST
DTSTART:20221106T060000
END:STANDARD
END:VTIMEZONE
BEGIN:VEVENT
DTSTART;TZID=America/Toronto:20210312T080000
DTEND;TZID=America/Toronto:20210312T170000
DTSTAMP:20260421T191126
CREATED:20210223T134226Z
LAST-MODIFIED:20210303T142157Z
UID:12068-1615536000-1615568400@epilepsyswo.ca
SUMMARY:Purple Daisy Days
DESCRIPTION:The Purple Pansy flower boutique has teamed up with ESWO to raise money for epilepsy education and support services in Chatham-Kent. Purchase a bunch of purple daisies for $11 and the proceeds will be donated back to ESWO. \nPick-up is March 12\, 2021! Order yours today by calling 519-354-5555! 
URL:https://epilepsyswo.ca/event/purple-daisy-days/
CATEGORIES:Chatham/Kent
ORGANIZER;CN="Epilepsy Southwestern Ontario%2C Chatham":MAILTO:sandra@epilepsyswo.ca
END:VEVENT
BEGIN:VEVENT
DTSTART;TZID=America/Toronto:20201123T140000
DTEND;TZID=America/Toronto:20201123T150000
DTSTAMP:20260421T191126
CREATED:20201116T142701Z
LAST-MODIFIED:20220907T221504Z
UID:11552-1606140000-1606143600@epilepsyswo.ca
SUMMARY:VNS Presentation for Windsor\, Chatham\, and Sarnia
DESCRIPTION:LivaNova has offered to host a free VNS Presentation for Windsor\, Chatham\, and Sarnia on Monday\, November 23 from 2:00 pm – 3:00 pm. \nFor more information or to register for the presentation\, please email sarah@epilepsyswo.ca.
URL:https://epilepsyswo.ca/event/vns-presentation-for-windsor-chatham-and-sarnia/
CATEGORIES:Chatham/Kent,Sarnia/Lambton,Windsor/Essex
ORGANIZER;CN="Epilepsy Southwestern Ontario%2C Windsor":MAILTO:lori@epilepsyswo.ca
END:VEVENT
BEGIN:VEVENT
DTSTART;TZID=America/Toronto:20200909T193000
DTEND;TZID=America/Toronto:20200909T203000
DTSTAMP:20260421T191126
CREATED:20200903T142521Z
LAST-MODIFIED:20200903T151347Z
UID:11125-1599679800-1599683400@epilepsyswo.ca
SUMMARY:Return To School Webinar
DESCRIPTION:Back to school can be a time of questions and concerns for all parents\, but especially parents of students with epilepsy. This year\, Covid-19 has multiplied those questions and amplified those concerns. With this in mind\, Epilepsy Toronto and Epilepsy Southwestern Ontario have put together a panel of experts to speak directly to parents\, offering insight into first aid and Covid-19 protocols in schools\, and resources for students returning to the classroom and those opting to learn online. \nJoin us Wednesday\, Sept 9\, at 7:30 pm for a Facebook Live Event\, with panelists: Carrie Charters (Social Worker\, LHSC Children’s Hospital)\, Dr. Elizabeth Kerr (Program Director The Epilepsy Classroom\, SickKids)\, Steve Lynnette (member of the Special Education Advisory Committee and parent)\, and Dr. Michelle Science (Infectious Diseases Consultant\, SickKids). Find out their answers to the questions they are most often asked by parents\, and then participate in a live Q&A\, moderated by Epilepsy Southwestern Ontario’s Epilepsy Educator\, Jayme Chami. \nAbout The Panel\nCarrie Charters is a paediatric social worker for the neurology program at Children’s Hospital – LHSC. In her role she works with inpatients and outpatients to provide clinical counselling and emotional support services\, connection to community resources and funding opportunities\, and helps families to articulate and advocate for their needs. Carrie’s professional background includes work in the child and youth mental health system and in education. When out of the office\, you can find her looking for buses and trucks with her toddler and husband\, Zoom-ing with friends and family\, googling ‘Best Instant Pot Recipes\,’ and watching CNN. \n  \nElizabeth Kerr was awarded her Ph.D. from the University of Calgary\, following which she completed a CPA/APA accredited internship in Neuropsychology at the Children’s Hospital of Western Ontario. She has been a Clinical Neuropsychologist at SickKids since 1995\, holds an associate scientific appointment in the Division of Neurology\, SickKids\, and an adjunct clinical academic appointment with the Department of Paediatrics\, the University of Toronto.  As a full-time clinician\, Dr. Kerr heads up the Epilepsy Classroom and provides neuropsychological assessment and consultation to the Epilepsy Classroom\, the Epilepsy Surgery program\, and Metabolic Genetics. \n  \nSteve Lynette has represented Epilepsy Toronto on the SEAC (Special Education Advisory Committee) for the Toronto Board of Education for over 10 years\, and previously held the positions of the Chair and Vice-Chair of the committee. SEAC makes recommendations to the board with respect to any matter affecting the establishment\, development\, and delivery of special education programs and services for exceptional pupils\, and participates in the annual review of the special education plan\, the annual budget process as it relates to special education\, and reviews the board financial statements as they relate to special education. Steve is also a business owner and a parent of a child living with epilepsy. \n  \nMichelle Science\, Ph.D.\, works in the Division of Infectious Disease in Toronto’s Hospital for Sick Children; she has in-depth expertise in COVID and schools. \n 
URL:https://epilepsyswo.ca/event/return-to-school-webinar/
CATEGORIES:Chatham/Kent,Huron Perth/Grey Bruce,London/Middlesex,Sarnia/Lambton,Windsor/Essex
END:VEVENT
BEGIN:VEVENT
DTSTART;TZID=America/Toronto:20200811T130000
DTEND;TZID=America/Toronto:20200811T140000
DTSTAMP:20260421T191126
CREATED:20200728T202806Z
LAST-MODIFIED:20200728T202901Z
UID:10954-1597150800-1597154400@epilepsyswo.ca
SUMMARY:Youth Mental Health and Epilepsy
DESCRIPTION:Are you a youth who is finding the psychosocial impact of epilepsy too difficult to manage on your own? Are you a parent trying to support your youth as they navigate their mental health during COVID-19 times? You are not alone! \nPlease join Epilepsy Toronto and Epilepsy Southwestern Ontario as we join forces to bring you our latest webinar focused on youth mental health and its relationship with epilepsy. \nJoin our expert panel\, who will share their experience working with youth mental health\, and provide strategies to assist youth during this time. Q&A opportunity to follow.
URL:https://epilepsyswo.ca/event/youth-mental-health-and-epilepsy/
CATEGORIES:Chatham/Kent,Huron Perth/Grey Bruce,London/Middlesex,Sarnia/Lambton,Windsor/Essex
END:VEVENT
BEGIN:VEVENT
DTSTART;TZID=America/Toronto:20200605T140000
DTEND;TZID=America/Toronto:20200605T150000
DTSTAMP:20260421T191126
CREATED:20200519T131708Z
LAST-MODIFIED:20200520T154312Z
UID:10722-1591365600-1591369200@epilepsyswo.ca
SUMMARY:Epilepsy Treatment Options
DESCRIPTION:Join us on Facebook Live\, Friday\, June 5th at 2:00 p.m. as Paediatric Epileptologist\, Dr. Andrea Andrade of Children’s Hospital\, London Health Sciences Centre\, discusses Epilepsy Treatment Options. A 15 minute Q&A to follow. \nClick here to watch our LIVE.
URL:https://epilepsyswo.ca/event/epilepsy-treatment-options/
CATEGORIES:Chatham/Kent,Huron Perth/Grey Bruce,London/Middlesex,Sarnia/Lambton,Windsor/Essex
END:VEVENT
BEGIN:VEVENT
DTSTART;TZID=America/Toronto:20200519T150000
DTEND;TZID=America/Toronto:20200519T160000
DTSTAMP:20260421T191126
CREATED:20200512T131909Z
LAST-MODIFIED:20200519T131117Z
UID:10713-1589900400-1589904000@epilepsyswo.ca
SUMMARY:Neuropsychological Evaluation and Epilepsy
DESCRIPTION:We are so excited to welcome Dr. Susan Hayman-Abello and Dr. Brent Hayman-Abello to discuss Neuropsychological Evaluation and Epilepsy. This much-anticipated webinar will take place tomorrow Tuesday\, May 19th at 3:00 pm. \nThere will be ONLY ONE opportunity to watch this webinar\, so don’t forget to tune in!!! This webinar will not be recorded. \nRegister and Save Your Seat: \nhttps://zoom.us/webinar/register/WN_hNYG9GufRBWGM6q8JwQk6w \n 
URL:https://epilepsyswo.ca/event/neuropsychological-evaluation-and-epilepsy/
CATEGORIES:Chatham/Kent,Huron Perth/Grey Bruce,London/Middlesex,Sarnia/Lambton,Windsor/Essex
END:VEVENT
BEGIN:VEVENT
DTSTART;TZID=America/Toronto:20200501T140000
DTEND;TZID=America/Toronto:20200501T150000
DTSTAMP:20260421T191126
CREATED:20200428T193522Z
LAST-MODIFIED:20200504T163318Z
UID:10702-1588341600-1588345200@epilepsyswo.ca
SUMMARY:Coping with the Stress of COVID-19
DESCRIPTION:Join us on Facebook Live\, Friday\, May 1st at 2 pm as Clinical Psychologist Dr. Sarah Vernon-Scott of London Health Sciences Centre (LHSC)\, University Hospital discusses Coping with the Stress of COVID-19. A 15 minute live Q&A to follow. \nWatch the Live here.
URL:https://epilepsyswo.ca/event/coping-with-the-stress-of-covid-19/
CATEGORIES:Chatham/Kent,Huron Perth/Grey Bruce,London/Middlesex,Sarnia/Lambton,Windsor/Essex
END:VEVENT
BEGIN:VEVENT
DTSTART;TZID=America/Toronto:20200427T080000
DTEND;TZID=America/Toronto:20200427T090000
DTSTAMP:20260421T191126
CREATED:20200428T193305Z
LAST-MODIFIED:20200428T193305Z
UID:10699-1587974400-1587978000@epilepsyswo.ca
SUMMARY:Epilepsy Care in the COVID-19 Pandemic
DESCRIPTION:Join us on Facebook Live as Dr. Seyed Mirsattari MD\, Clinical Neurologist of London Health Sciences Centre (LHSC)\, University Hospital discusses epilepsy care during the COVID-19 pandemic. A 15 minute live Q&A to follow. \nWatch the LIVE video here: https://www.facebook.com/epilepsyswo/videos/659047811540875/
URL:https://epilepsyswo.ca/event/epilepsy-care-in-the-covid-19-pandemic/
CATEGORIES:Chatham/Kent,Huron Perth/Grey Bruce,London/Middlesex,Sarnia/Lambton,Windsor/Essex
END:VEVENT
BEGIN:VEVENT
DTSTART;TZID=America/Toronto:20191207T120000
DTEND;TZID=America/Toronto:20191207T133000
DTSTAMP:20260421T191126
CREATED:20191126T163634Z
LAST-MODIFIED:20191213T165458Z
UID:10362-1575720000-1575725400@epilepsyswo.ca
SUMMARY:Chatham-Kent Holiday Party
DESCRIPTION:ESWO invites you to the Chatham-Kent Holiday Party for a public skate on Saturday\, December 7\, 2019 from 12:00 – 1:30 pm at Chatham Memorial Arena (82 Tweedsmuir Ave W). The cost is the public skating fee. We look forward to seeing you there. Please RSVP to sandra@epilepsyswo.ca. United Way Chatham-Kent is the only United Way providing funding to ESWO across Southwestern Ontario. Help us show our gratitude by bringing a small cash donation with you to support their campaign.
URL:https://epilepsyswo.ca/event/chatham-kent-holiday-party/
LOCATION:Chatham Memorial Arena\, 82 Tweedsmuir Ave W\, Chatham\, Ontario\, N7M 2A4\, Canada
CATEGORIES:Chatham/Kent
ATTACH;FMTTYPE=image/jpeg:https://epilepsyswo.ca/wp-content/uploads/2019/11/bigstock-ice-skating-22657418.jpg
ORGANIZER;CN="Epilepsy Southwestern Ontario%2C Chatham":MAILTO:sandra@epilepsyswo.ca
END:VEVENT
BEGIN:VEVENT
DTSTART;TZID=America/Toronto:20191127T180000
DTEND;TZID=America/Toronto:20191127T200000
DTSTAMP:20260421T191126
CREATED:20191104T191736Z
LAST-MODIFIED:20191106T185621Z
UID:10305-1574877600-1574884800@epilepsyswo.ca
SUMMARY:Vagus Nerve Stimulator (VNS) Information Night by LivaNova Canada
DESCRIPTION:Please join us November 27\, 2019 at Sati Hall (21 McKeough Ave\, Chatham) from 6:00pm – 8:00pm at our information session where a guest speaker from LivaNova will be presenting on VNS (Vagus Nerve Stimulator). \nPlease RSVP to Sandra at sandra@epilepsyswo.ca. RSVP is required.
URL:https://epilepsyswo.ca/event/vagal-nerve-stimulator-vns-information-night-by-livanova-canada/
LOCATION:Sati Hall\, 21 McKeough Ave.\, Chatham\, Ontario\, N7L1J3\, Canada
CATEGORIES:Chatham/Kent
ORGANIZER;CN="Epilepsy Southwestern Ontario%2C Chatham":MAILTO:sandra@epilepsyswo.ca
END:VEVENT
BEGIN:VEVENT
DTSTART;TZID=America/Toronto:20190531T173000
DTEND;TZID=America/Toronto:20190531T200000
DTSTAMP:20260421T191126
CREATED:20190424T170520Z
LAST-MODIFIED:20190528T155326Z
UID:9084-1559323800-1559332800@epilepsyswo.ca
SUMMARY:Epilepsy Information and Fundraising Dinner
DESCRIPTION:The Chatham Neurology Center and Julia’s Health and Beauty Clinic presents an Epilepsy Educational night: Update in Epilepsy management for patients and primary healthcare providers. \nPresented by: Dr. Awad Mortada. MD\, FRCPC\, Neurologist & Sandra Pidduck\, Epilepsy Educator with the Epilepsy Southwestern Ontario Program. \nSponsored by: UCB (Pharmaceutical Company) \n\nThe Agenda for the evening includes dinner\, speeches and raffle prizes. All the donations and fundraising benefit are to support the Epilepsy Southwestern Ontario Programs and Services. \nEvery Epilepsy Patient will have no charge. \n\n\n\n\n\nDate: Friday\, May 31\, 2019 \nTime: 5:30pm – 8:00pm \nLocation. Ten-Seven Cafe and Lounge \n595 St Clair St. Chatham\, ON N7L 3L3 Canada \nTickets on sale on our EventBrite page.  \n  \n 
URL:https://epilepsyswo.ca/event/ckfundraisingdinner/
CATEGORIES:Chatham/Kent
ORGANIZER;CN="Epilepsy Southwestern Ontario%2C Chatham":MAILTO:sandra@epilepsyswo.ca
END:VEVENT
BEGIN:VEVENT
DTSTART;TZID=America/Toronto:20181113T183000
DTEND;TZID=America/Toronto:20181113T203000
DTSTAMP:20260421T191126
CREATED:20181022T195518Z
LAST-MODIFIED:20181022T195823Z
UID:6618-1542133800-1542141000@epilepsyswo.ca
SUMMARY:Support Group - Parent Check In
DESCRIPTION:A kid free zone to informally chat and share our strategies \nTuesday\, November 13\, 2018 \n6:30pm – 8:30pm \nWilliams Street Cafe (28 William St S\, Chatham\, ON N7M 4S1) \nFor more information: call 519.365.5131 or email sandra@epilepsyswo.ca
URL:https://epilepsyswo.ca/event/support-group-parent-check-in/
LOCATION:Williams Street Cafe\, 28 William St S\, Chatham\, Ontario\, N7M 4S1\, Canada
CATEGORIES:Chatham/Kent
ORGANIZER;CN="Epilepsy Southwestern Ontario%2C Chatham":MAILTO:sandra@epilepsyswo.ca
END:VEVENT
BEGIN:VEVENT
DTSTART;TZID=America/Toronto:20180924T170000
DTEND;TZID=America/Toronto:20180924T200000
DTSTAMP:20260421T191126
CREATED:20180914T152331Z
LAST-MODIFIED:20180919T011547Z
UID:6342-1537808400-1537819200@epilepsyswo.ca
SUMMARY:Epilepsy Information Night - Chatham
DESCRIPTION:For people living with epilepsy and their families \nAn Epilepsy Educator will help you learn the basics of epilepsy and how to live well with seizures. \nWhen: September 24th\, 2018 from 5 p.m. – 8 p.m. \nWhere: Retro Suites Hotel – The Derby Banquet Center \n2 King Street West\, Chatham\, ON \nFree event (including dinner) \nPlease RSVP by Friday\, September 7th to reem@epilepsyswo.ca or by calling 519.433.4073 \nHosted by Epilepsy Southwestern Ontario and UCB
URL:https://epilepsyswo.ca/event/epilepsy-information-night-chatham/
LOCATION:Retro Suites Hotel – The Derby Banquet Center\, 2 King Street West\, Chatham\, Ontario\, N7M 1C6\, Canada
CATEGORIES:Chatham/Kent
ATTACH;FMTTYPE=image/jpeg:https://epilepsyswo.ca/wp-content/uploads/2018/08/epilepsy_info_night_header.jpg
END:VEVENT
BEGIN:VEVENT
DTSTART;TZID=America/Toronto:20180721T100000
DTEND;TZID=America/Toronto:20180721T150000
DTSTAMP:20260421T191126
CREATED:20180626T195651Z
LAST-MODIFIED:20180629T184523Z
UID:5817-1532167200-1532185200@epilepsyswo.ca
SUMMARY:Family Fun Day
DESCRIPTION:Join us\, Saturday July 21\, 2018 from 10:00 a.m. until 3:00 p.m. at Kingston Park ( 91 Paxton Drive\, Chatham\, ON) for a day of splash pad fun for our Chatham-Kent families. Please bring your own picnic. \nOnline registration is through the eventbrite website: \nSearch: Epilepsy Southwestern Ontario to find our event. \nLooking forward to seeing everyone there!
URL:https://epilepsyswo.ca/event/family-fun-day/
CATEGORIES:Chatham/Kent
ORGANIZER;CN="Epilepsy Southwestern Ontario%2C Chatham":MAILTO:sandra@epilepsyswo.ca
END:VEVENT
BEGIN:VEVENT
DTSTART;TZID=America/Toronto:20180526T100000
DTEND;TZID=America/Toronto:20180526T120000
DTSTAMP:20260421T191126
CREATED:20180516T133711Z
LAST-MODIFIED:20180516T133711Z
UID:4990-1527328800-1527336000@epilepsyswo.ca
SUMMARY:Fire Safety Day
DESCRIPTION:A family safety day for the whole family with tours of the fire station and firetrucks\, fun activities and more! \nPlease register online through eventbrite (Search: Epilpesy Southwestern Ontario)
URL:https://epilepsyswo.ca/event/fire-safety-day/
CATEGORIES:Chatham/Kent
END:VEVENT
END:VCALENDAR