BEGIN:VCALENDAR
VERSION:2.0
PRODID:-//Epilepsy Southwestern Ontario - ECPv6.15.18//NONSGML v1.0//EN
CALSCALE:GREGORIAN
METHOD:PUBLISH
X-ORIGINAL-URL:https://epilepsyswo.ca
X-WR-CALDESC:Events for Epilepsy Southwestern Ontario
REFRESH-INTERVAL;VALUE=DURATION:PT1H
X-Robots-Tag:noindex
X-PUBLISHED-TTL:PT1H
BEGIN:VTIMEZONE
TZID:America/Toronto
BEGIN:DAYLIGHT
TZOFFSETFROM:-0500
TZOFFSETTO:-0400
TZNAME:EDT
DTSTART:20220313T070000
END:DAYLIGHT
BEGIN:STANDARD
TZOFFSETFROM:-0400
TZOFFSETTO:-0500
TZNAME:EST
DTSTART:20221106T060000
END:STANDARD
BEGIN:DAYLIGHT
TZOFFSETFROM:-0500
TZOFFSETTO:-0400
TZNAME:EDT
DTSTART:20230312T070000
END:DAYLIGHT
BEGIN:STANDARD
TZOFFSETFROM:-0400
TZOFFSETTO:-0500
TZNAME:EST
DTSTART:20231105T060000
END:STANDARD
BEGIN:DAYLIGHT
TZOFFSETFROM:-0500
TZOFFSETTO:-0400
TZNAME:EDT
DTSTART:20240310T070000
END:DAYLIGHT
BEGIN:STANDARD
TZOFFSETFROM:-0400
TZOFFSETTO:-0500
TZNAME:EST
DTSTART:20241103T060000
END:STANDARD
END:VTIMEZONE
BEGIN:VEVENT
DTSTART;VALUE=DATE:20231128
DTEND;VALUE=DATE:20231129
DTSTAMP:20260420T121825
CREATED:20231127T142028Z
LAST-MODIFIED:20231127T142028Z
UID:17822-1701129600-1701215999@epilepsyswo.ca
SUMMARY:Giving Tuesday
DESCRIPTION:Epilepsy Southwestern Ontario invites the community to join our #TakeAMoment Campaign. This Giving Tuesday\, pause and reflect on how you can make a positive impact in the lives of others. \nAt Epilepsy Southwestern Ontario\, our services are self-funded\, with no government assistance. We heavily rely on fundraising\, donations\, and community support to provide essential information\, education\, and support to individuals and families affected by epilepsy. \nThe community is the driving force that transforms living with epilepsy into thriving with epilepsy. \nWhether through a monthly commitment or a one-time donation\, every dollar plays a crucial role in ensuring accessibility for individuals living with epilepsy. No matter the size\, every gift makes a significant difference! \nLearn More
URL:https://epilepsyswo.ca/event/giving-tuesday-2/
CATEGORIES:Chatham/Kent,Huron Perth/Grey Bruce,London/Middlesex,Sarnia/Lambton,Windsor/Essex
ATTACH;FMTTYPE=image/jpeg:https://epilepsyswo.ca/wp-content/uploads/2023/11/GT2023_FB_Post01.jpg
END:VEVENT
END:VCALENDAR