BEGIN:VCALENDAR
VERSION:2.0
PRODID:-//Epilepsy Southwestern Ontario - ECPv6.15.18//NONSGML v1.0//EN
CALSCALE:GREGORIAN
METHOD:PUBLISH
X-ORIGINAL-URL:https://epilepsyswo.ca
X-WR-CALDESC:Events for Epilepsy Southwestern Ontario
REFRESH-INTERVAL;VALUE=DURATION:PT1H
X-Robots-Tag:noindex
X-PUBLISHED-TTL:PT1H
BEGIN:VTIMEZONE
TZID:America/Toronto
BEGIN:DAYLIGHT
TZOFFSETFROM:-0500
TZOFFSETTO:-0400
TZNAME:EDT
DTSTART:20220313T070000
END:DAYLIGHT
BEGIN:STANDARD
TZOFFSETFROM:-0400
TZOFFSETTO:-0500
TZNAME:EST
DTSTART:20221106T060000
END:STANDARD
BEGIN:DAYLIGHT
TZOFFSETFROM:-0500
TZOFFSETTO:-0400
TZNAME:EDT
DTSTART:20230312T070000
END:DAYLIGHT
BEGIN:STANDARD
TZOFFSETFROM:-0400
TZOFFSETTO:-0500
TZNAME:EST
DTSTART:20231105T060000
END:STANDARD
BEGIN:DAYLIGHT
TZOFFSETFROM:-0500
TZOFFSETTO:-0400
TZNAME:EDT
DTSTART:20240310T070000
END:DAYLIGHT
BEGIN:STANDARD
TZOFFSETFROM:-0400
TZOFFSETTO:-0500
TZNAME:EST
DTSTART:20241103T060000
END:STANDARD
END:VTIMEZONE
BEGIN:VEVENT
DTSTART;TZID=America/Toronto:20231116T183000
DTEND;TZID=America/Toronto:20231116T193000
DTSTAMP:20260420T140439
CREATED:20230113T201627Z
LAST-MODIFIED:20230113T201627Z
UID:16766-1700159400-1700163000@epilepsyswo.ca
SUMMARY:Virtual Teen Social Group
DESCRIPTION:Teens with epilepsy and their siblings between the ages of 13-17 are welcome to join us for games and conversation over Zoom. This is a great opportunity to meet peers with epilepsy and to have fun getting to know each other. If you are interested in this session or future sessions\, email holly@epilepsyswo.ca to register.
URL:https://epilepsyswo.ca/event/virtual-teen-social-group-4/
CATEGORIES:Chatham/Kent,Huron Perth/Grey Bruce,London/Middlesex,Sarnia/Lambton,Windsor/Essex
ATTACH;FMTTYPE=image/jpeg:https://epilepsyswo.ca/wp-content/uploads/2021/07/teen-group-photo.jpg
END:VEVENT
BEGIN:VEVENT
DTSTART;TZID=America/Toronto:20231116T183000
DTEND;TZID=America/Toronto:20231116T193000
DTSTAMP:20260420T140439
CREATED:20231109T203134Z
LAST-MODIFIED:20231109T203134Z
UID:17761-1700159400-1700163000@epilepsyswo.ca
SUMMARY:Virtual Teen Social Group
DESCRIPTION:Save the Date! Our Social Worker Holly will be hosting a teen (ages 13-18) get-together on Thursday\, November 16th from 6:30-7:30pm over Zoom for games and conversation. This virtual event is open to teens with epilepsy and friends/family of the same age range. We’ll play Guess that Emoji\, Never Have I Ever\, Read My Lips\, and Name\, Place\, Animal\, Thing. \nEmail holly@epilepsyswo.ca for the Zoom link. 
URL:https://epilepsyswo.ca/event/virtual-teen-social-group-5/
CATEGORIES:Chatham/Kent,Huron Perth/Grey Bruce,London/Middlesex,Sarnia/Lambton,Windsor/Essex
END:VEVENT
END:VCALENDAR