BEGIN:VCALENDAR
VERSION:2.0
PRODID:-//Epilepsy Southwestern Ontario - ECPv6.15.18//NONSGML v1.0//EN
CALSCALE:GREGORIAN
METHOD:PUBLISH
X-WR-CALNAME:Epilepsy Southwestern Ontario
X-ORIGINAL-URL:https://epilepsyswo.ca
X-WR-CALDESC:Events for Epilepsy Southwestern Ontario
REFRESH-INTERVAL;VALUE=DURATION:PT1H
X-Robots-Tag:noindex
X-PUBLISHED-TTL:PT1H
BEGIN:VTIMEZONE
TZID:America/Toronto
BEGIN:DAYLIGHT
TZOFFSETFROM:-0500
TZOFFSETTO:-0400
TZNAME:EDT
DTSTART:20220313T070000
END:DAYLIGHT
BEGIN:STANDARD
TZOFFSETFROM:-0400
TZOFFSETTO:-0500
TZNAME:EST
DTSTART:20221106T060000
END:STANDARD
BEGIN:DAYLIGHT
TZOFFSETFROM:-0500
TZOFFSETTO:-0400
TZNAME:EDT
DTSTART:20230312T070000
END:DAYLIGHT
BEGIN:STANDARD
TZOFFSETFROM:-0400
TZOFFSETTO:-0500
TZNAME:EST
DTSTART:20231105T060000
END:STANDARD
BEGIN:DAYLIGHT
TZOFFSETFROM:-0500
TZOFFSETTO:-0400
TZNAME:EDT
DTSTART:20240310T070000
END:DAYLIGHT
BEGIN:STANDARD
TZOFFSETFROM:-0400
TZOFFSETTO:-0500
TZNAME:EST
DTSTART:20241103T060000
END:STANDARD
END:VTIMEZONE
BEGIN:VEVENT
DTSTART;TZID=America/Toronto:20230923T090000
DTEND;TZID=America/Toronto:20230923T130000
DTSTAMP:20260420T175259
CREATED:20230622T181238Z
LAST-MODIFIED:20230717T180048Z
UID:17331-1695459600-1695474000@epilepsyswo.ca
SUMMARY:Seize the Day Windsor - Malden Park
DESCRIPTION:Taking steps to raise epilepsy awareness\nJoin ESWO in Windsor for the 7th Annual Seize the Day Event! \nOn Saturday\, September 23\, 2023 Epilepsy Southwestern Ontario (ESWO) will host its 7th Annual Seize the Day 5k Run / 2.5k Walk in Windsor at Malden Park to raise funds to provide support and educational services for people living with epilepsy\, their families and their communities throughout Southwestern Ontario. \nRegistration at 9:00am\, Run starts at 10:30am. \nIf you’re unable to join us in person consider joining us virtually by walking/running September 22-24\, 2023. We will kick off the weekend event virtually with celebrations on Facebook Live. \nWhether you are participating to honour a loved one\, support those affected by epilepsy\, or simply just want to help raise awareness\, we invite you to join us for this special occasion. Let’s make this year even bigger than the last\, and celebrate our awesome purple community! \nWe hope you can join us to show people living with epilepsy that they are not alone! Let’s make every step count!
URL:https://epilepsyswo.ca/event/seize-the-day-windsor-malden-park/
LOCATION:Malden Park\, 4200 Malden Rd\, Windsor\, Ontario\, N9C 0C5\, Canada
CATEGORIES:Chatham/Kent,Windsor/Essex
ORGANIZER;CN="Epilepsy Southwestern Ontario%2C Windsor":MAILTO:lori@epilepsyswo.ca
END:VEVENT
END:VCALENDAR