BEGIN:VCALENDAR
VERSION:2.0
PRODID:-//Epilepsy Southwestern Ontario - ECPv6.15.18//NONSGML v1.0//EN
CALSCALE:GREGORIAN
METHOD:PUBLISH
X-ORIGINAL-URL:https://epilepsyswo.ca
X-WR-CALDESC:Events for Epilepsy Southwestern Ontario
REFRESH-INTERVAL;VALUE=DURATION:PT1H
X-Robots-Tag:noindex
X-PUBLISHED-TTL:PT1H
BEGIN:VTIMEZONE
TZID:America/Toronto
BEGIN:DAYLIGHT
TZOFFSETFROM:-0500
TZOFFSETTO:-0400
TZNAME:EDT
DTSTART:20210314T070000
END:DAYLIGHT
BEGIN:STANDARD
TZOFFSETFROM:-0400
TZOFFSETTO:-0500
TZNAME:EST
DTSTART:20211107T060000
END:STANDARD
BEGIN:DAYLIGHT
TZOFFSETFROM:-0500
TZOFFSETTO:-0400
TZNAME:EDT
DTSTART:20220313T070000
END:DAYLIGHT
BEGIN:STANDARD
TZOFFSETFROM:-0400
TZOFFSETTO:-0500
TZNAME:EST
DTSTART:20221106T060000
END:STANDARD
BEGIN:DAYLIGHT
TZOFFSETFROM:-0500
TZOFFSETTO:-0400
TZNAME:EDT
DTSTART:20230312T070000
END:DAYLIGHT
BEGIN:STANDARD
TZOFFSETFROM:-0400
TZOFFSETTO:-0500
TZNAME:EST
DTSTART:20231105T060000
END:STANDARD
END:VTIMEZONE
BEGIN:VEVENT
DTSTART;TZID=America/Toronto:20221211T132500
DTEND;TZID=America/Toronto:20221211T151500
DTSTAMP:20260421T100627
CREATED:20221110T211059Z
LAST-MODIFIED:20221205T200323Z
UID:16436-1670765100-1670771700@epilepsyswo.ca
SUMMARY:Windsor & Area Merry Little Holiday Party
DESCRIPTION:ESWO is inviting our Windsor & Area epilepsy warriors and families to join us on Sunday\, December 11 from 1:25 – 3:15 pm for a holiday get-together. Join us at Capri Pizzeria Recreation Complex\, 2555 Pulford St. Windsor for public skating. Hot chocolate will be provided\, and activities for those who choose not to skate will also be available. \nPlease RSVP to lori@epilepsyswo.ca \n**This is an open public skate\, the following charges apply: \nChild/Youth (5-18)\, Senior (60+) $3.25\nAdult (19-60) $3.50\nFamily (2 parents\, 3 children) $12.00 \nShould you require financial assistance\, please reach out to Lori.
URL:https://epilepsyswo.ca/event/windsor-area-holiday-party/
LOCATION:Capri Pizzeria Recreation Complex\, 2555 Pulford St\, Windsor\, Ontario
CATEGORIES:Windsor/Essex
ORGANIZER;CN="Epilepsy Southwestern Ontario%2C Windsor":MAILTO:lori@epilepsyswo.ca
END:VEVENT
END:VCALENDAR