BEGIN:VCALENDAR
VERSION:2.0
PRODID:-//Epilepsy Southwestern Ontario - ECPv6.15.18//NONSGML v1.0//EN
CALSCALE:GREGORIAN
METHOD:PUBLISH
X-WR-CALNAME:Epilepsy Southwestern Ontario
X-ORIGINAL-URL:https://epilepsyswo.ca
X-WR-CALDESC:Events for Epilepsy Southwestern Ontario
REFRESH-INTERVAL;VALUE=DURATION:PT1H
X-Robots-Tag:noindex
X-PUBLISHED-TTL:PT1H
BEGIN:VTIMEZONE
TZID:America/Toronto
BEGIN:DAYLIGHT
TZOFFSETFROM:-0500
TZOFFSETTO:-0400
TZNAME:EDT
DTSTART:20210314T070000
END:DAYLIGHT
BEGIN:STANDARD
TZOFFSETFROM:-0400
TZOFFSETTO:-0500
TZNAME:EST
DTSTART:20211107T060000
END:STANDARD
BEGIN:DAYLIGHT
TZOFFSETFROM:-0500
TZOFFSETTO:-0400
TZNAME:EDT
DTSTART:20220313T070000
END:DAYLIGHT
BEGIN:STANDARD
TZOFFSETFROM:-0400
TZOFFSETTO:-0500
TZNAME:EST
DTSTART:20221106T060000
END:STANDARD
BEGIN:DAYLIGHT
TZOFFSETFROM:-0500
TZOFFSETTO:-0400
TZNAME:EDT
DTSTART:20230312T070000
END:DAYLIGHT
BEGIN:STANDARD
TZOFFSETFROM:-0400
TZOFFSETTO:-0500
TZNAME:EST
DTSTART:20231105T060000
END:STANDARD
END:VTIMEZONE
BEGIN:VEVENT
DTSTART;TZID=America/Toronto:20220916T100000
DTEND;TZID=America/Toronto:20220917T170000
DTSTAMP:20260421T153749
CREATED:20220813T152027Z
LAST-MODIFIED:20220912T154723Z
UID:15927-1663322400-1663434000@epilepsyswo.ca
SUMMARY:Tee'in Off For Epilepsy
DESCRIPTION:Third-Party Event – Join us at the White Squirrel Golf Club for the 4th Annual Tee’in Off For Epilepsy Golf Tournament on Friday\, September 16th and Saturday\, September 17th\, 2022. \nCost: $600 for 4-person team registration. (Online Registration is required by August 26\, 2022) \nFees include shotgun start\, golf & cart. There will be lunch\, prizes\, and games. \n>>>>>Registration Form<<<<<< \nThanks to Team Oke for hosting this third-party event. \nFor more information please contact Joanne Oke at teamokeinfo@gmail.com \n 
URL:https://epilepsyswo.ca/event/teein-off-for-epilepsy-3/
LOCATION:White Squirrel Golf Club\, 72538 Bluewater Hwy\, Zurich\, Ontario\, N0M 2T0\, Canada
CATEGORIES:Chatham/Kent,Huron Perth/Grey Bruce,London/Middlesex,Sarnia/Lambton,Windsor/Essex
END:VEVENT
BEGIN:VEVENT
DTSTART;TZID=America/Toronto:20220917T150000
DTEND;TZID=America/Toronto:20220917T233000
DTSTAMP:20260421T153749
CREATED:20220912T154603Z
LAST-MODIFIED:20220912T154603Z
UID:16108-1663426800-1663457400@epilepsyswo.ca
SUMMARY:McGregor Mug Run
DESCRIPTION:The McGregor Mug Run and International Beer Fest is an annual event that takes place at Co-An Park in McGregor Ontario. \n\n2022 Registration\n\n\n• Online registration is open until Wednesday\, September 14th at 9pm. Register here. \n• Race Day registration is from 12:00pm – 3:15pm \n• Race Start time for both 5km and 10km is 4:00pm​​ \n**PLEASE DO NOT BE LATE** \n 
URL:https://epilepsyswo.ca/event/mcgregor-mug-run-2/
CATEGORIES:Windsor/Essex
ORGANIZER;CN="Epilepsy Southwestern Ontario%2C Windsor":MAILTO:lori@epilepsyswo.ca
END:VEVENT
END:VCALENDAR