BEGIN:VCALENDAR
VERSION:2.0
PRODID:-//Epilepsy Southwestern Ontario - ECPv6.15.18//NONSGML v1.0//EN
CALSCALE:GREGORIAN
METHOD:PUBLISH
X-WR-CALNAME:Epilepsy Southwestern Ontario
X-ORIGINAL-URL:https://epilepsyswo.ca
X-WR-CALDESC:Events for Epilepsy Southwestern Ontario
REFRESH-INTERVAL;VALUE=DURATION:PT1H
X-Robots-Tag:noindex
X-PUBLISHED-TTL:PT1H
BEGIN:VTIMEZONE
TZID:America/Toronto
BEGIN:DAYLIGHT
TZOFFSETFROM:-0500
TZOFFSETTO:-0400
TZNAME:EDT
DTSTART:20210314T070000
END:DAYLIGHT
BEGIN:STANDARD
TZOFFSETFROM:-0400
TZOFFSETTO:-0500
TZNAME:EST
DTSTART:20211107T060000
END:STANDARD
BEGIN:DAYLIGHT
TZOFFSETFROM:-0500
TZOFFSETTO:-0400
TZNAME:EDT
DTSTART:20220313T070000
END:DAYLIGHT
BEGIN:STANDARD
TZOFFSETFROM:-0400
TZOFFSETTO:-0500
TZNAME:EST
DTSTART:20221106T060000
END:STANDARD
BEGIN:DAYLIGHT
TZOFFSETFROM:-0500
TZOFFSETTO:-0400
TZNAME:EDT
DTSTART:20230312T070000
END:DAYLIGHT
BEGIN:STANDARD
TZOFFSETFROM:-0400
TZOFFSETTO:-0500
TZNAME:EST
DTSTART:20231105T060000
END:STANDARD
END:VTIMEZONE
BEGIN:VEVENT
DTSTART;TZID=America/Toronto:20220731T140000
DTEND;TZID=America/Toronto:20220731T220000
DTSTAMP:20260421T190249
CREATED:20220711T135051Z
LAST-MODIFIED:20220711T135112Z
UID:15856-1659276000-1659304800@epilepsyswo.ca
SUMMARY:Third Party: Second Annual Memorial Skate For David
DESCRIPTION:The Second Annual Memorial Skate for David will be held on July 31st at Atkinson Park in Windsor on University Ave W from 2pm until dark. Come enjoy some food\, refreshments and good vibes. Entry is free. \nSkate\, scoot or bike! Make sure to stop by for a free hot dog\, chips and pop from the Postma family in honour of their son. There will also be a donation box for Epilepsy Southwestern Ontario.
URL:https://epilepsyswo.ca/event/third-party-second-annual-memorial-skate-for-david/
LOCATION:Atkinson Skate Park\, University Ave W\, Windsor\, Ontario\, N9B 1A7\, Canada
CATEGORIES:Chatham/Kent,Huron Perth/Grey Bruce,London/Middlesex,Sarnia/Lambton,Windsor/Essex
ATTACH;FMTTYPE=image/jpeg:https://epilepsyswo.ca/wp-content/uploads/2022/07/292778936_5706750399371484_1029313854543591476_n.jpg
END:VEVENT
END:VCALENDAR