BEGIN:VCALENDAR
VERSION:2.0
PRODID:-//Epilepsy Southwestern Ontario - ECPv6.15.18//NONSGML v1.0//EN
CALSCALE:GREGORIAN
METHOD:PUBLISH
X-WR-CALNAME:Epilepsy Southwestern Ontario
X-ORIGINAL-URL:https://epilepsyswo.ca
X-WR-CALDESC:Events for Epilepsy Southwestern Ontario
REFRESH-INTERVAL;VALUE=DURATION:PT1H
X-Robots-Tag:noindex
X-PUBLISHED-TTL:PT1H
BEGIN:VTIMEZONE
TZID:America/Toronto
BEGIN:DAYLIGHT
TZOFFSETFROM:-0500
TZOFFSETTO:-0400
TZNAME:EDT
DTSTART:20210314T070000
END:DAYLIGHT
BEGIN:STANDARD
TZOFFSETFROM:-0400
TZOFFSETTO:-0500
TZNAME:EST
DTSTART:20211107T060000
END:STANDARD
BEGIN:DAYLIGHT
TZOFFSETFROM:-0500
TZOFFSETTO:-0400
TZNAME:EDT
DTSTART:20220313T070000
END:DAYLIGHT
BEGIN:STANDARD
TZOFFSETFROM:-0400
TZOFFSETTO:-0500
TZNAME:EST
DTSTART:20221106T060000
END:STANDARD
BEGIN:DAYLIGHT
TZOFFSETFROM:-0500
TZOFFSETTO:-0400
TZNAME:EDT
DTSTART:20230312T070000
END:DAYLIGHT
BEGIN:STANDARD
TZOFFSETFROM:-0400
TZOFFSETTO:-0500
TZNAME:EST
DTSTART:20231105T060000
END:STANDARD
END:VTIMEZONE
BEGIN:VEVENT
DTSTART;TZID=America/Toronto:20220707T110000
DTEND;TZID=America/Toronto:20220710T170000
DTSTAMP:20260421T190249
CREATED:20220707T144422Z
LAST-MODIFIED:20220707T144911Z
UID:15841-1657191600-1657472400@epilepsyswo.ca
SUMMARY:50/50 Draw at Chatham-Kent Ribfest 2022
DESCRIPTION:We’re excited to partner with the Chatham-Kent Ribfest by hosting a 50/50 draw in support of ESWO and individuals living with epilepsy. ESWO will be attending and have a booth set up at the Chatham Ribfest July 7-10\, 2022 in Tecumseh Park. \nTicket purchases must be made no later than 4:30pm on July 10\, 2022\, in order to be eligible for this 50/50 draw. \nTickets: 200 for $40\, 60 for $20\, or 10 for $10. \nPurchase tickets online: https://www.rafflebox.ca/raffle/epilepsyswo \nFor more information or any questions about this 50/50 draw\, please contact sandra@epilepsyswo.ca
URL:https://epilepsyswo.ca/event/5050-chatham-ribfest/
LOCATION:Tecumseh Park\, Chatham\, Ontario\, Canada
CATEGORIES:Chatham/Kent,Huron Perth/Grey Bruce,London/Middlesex,Sarnia/Lambton,Windsor/Essex
ORGANIZER;CN="Epilepsy Southwestern Ontario%2C Chatham":MAILTO:sandra@epilepsyswo.ca
END:VEVENT
END:VCALENDAR